BEGIN:VCALENDAR
VERSION:2.0
PRODID:-//Beethovenhaus Baden - ECPv6.15.20//NONSGML v1.0//EN
CALSCALE:GREGORIAN
METHOD:PUBLISH
X-ORIGINAL-URL:https://www.beethovenhaus-baden.at
X-WR-CALDESC:Veranstaltungen für Beethovenhaus Baden
REFRESH-INTERVAL;VALUE=DURATION:PT1H
X-Robots-Tag:noindex
X-PUBLISHED-TTL:PT1H
BEGIN:VTIMEZONE
TZID:Europe/Vienna
BEGIN:DAYLIGHT
TZOFFSETFROM:+0100
TZOFFSETTO:+0200
TZNAME:CEST
DTSTART:20250330T010000
END:DAYLIGHT
BEGIN:STANDARD
TZOFFSETFROM:+0200
TZOFFSETTO:+0100
TZNAME:CET
DTSTART:20251026T010000
END:STANDARD
BEGIN:DAYLIGHT
TZOFFSETFROM:+0100
TZOFFSETTO:+0200
TZNAME:CEST
DTSTART:20260329T010000
END:DAYLIGHT
BEGIN:STANDARD
TZOFFSETFROM:+0200
TZOFFSETTO:+0100
TZNAME:CET
DTSTART:20261025T010000
END:STANDARD
BEGIN:DAYLIGHT
TZOFFSETFROM:+0100
TZOFFSETTO:+0200
TZNAME:CEST
DTSTART:20270328T010000
END:DAYLIGHT
BEGIN:STANDARD
TZOFFSETFROM:+0200
TZOFFSETTO:+0100
TZNAME:CET
DTSTART:20271031T010000
END:STANDARD
END:VTIMEZONE
BEGIN:VEVENT
DTSTART;TZID=Europe/Vienna:20260203T143000
DTEND;TZID=Europe/Vienna:20260203T160000
DTSTAMP:20260424T171620
CREATED:20210624T072802Z
LAST-MODIFIED:20260126T133313Z
UID:639-1770129000-1770134400@www.beethovenhaus-baden.at
SUMMARY:Semester-FERIENSPIEL - "Hört Beethoven!?"
DESCRIPTION:Alter: 6-10 Jahre / Teilnehmer: max. 20 Kinder / Eintritt gratis \nAnmeldung erforderlich: 02252/86800-630 oder tickets@beethovenhaus-baden.at \nWar Beethoven wirklich fast taub? Kann man Töne auch sehen oder schmecken? Was heißt eigentlich komponieren? Hatte Beethoven schon eine Taschenlampe? Wie klingt ein Hammerflügel? All diese Fragen rund um Beethoven\, seine Musik\, seine Aufenthalte in Baden und das Leben im Biedermeier werden in dieser interaktiven Spurensuche behandelt. Die Kinder erleben\, was es heißt\, nichts zu hören und bekommen einen ersten Einblick in das Leben des großen Komponisten Ludwig van Beethoven!
URL:https://www.beethovenhaus-baden.at/event/ferienspiel-beethoven-geht-baden/
ATTACH;FMTTYPE=image/jpeg:https://www.beethovenhaus-baden.at/wp-content/uploads/2024/06/Ferienspiel-BH.jpg
END:VEVENT
BEGIN:VEVENT
DTSTART;TZID=Europe/Vienna:20260208T100000
DTEND;TZID=Europe/Vienna:20260208T130000
DTSTAMP:20260424T171620
CREATED:20250923T064452Z
LAST-MODIFIED:20251210T104538Z
UID:4012-1770544800-1770555600@www.beethovenhaus-baden.at
SUMMARY:Badener Museentour - Kunst\, Kultur & Kulinarik
DESCRIPTION:Tauchen Sie ein in ein einzigartiges Erlebnis aus Geschichte\, beeindruckender Architektur und zeitgenössischer Kunst! Die Badener Museentour führt Sie zu drei der spannendsten Kulturorte der Stadt: dem Arnulf Rainer Museum\, dem Beethovenhaus und dem Kaiserhaus. Jedes dieser historischen Gebäude hat seine ganz eigene Geschichte zu erzählen – mal kunstvoll\, mal kaiserlich\, mal musikalisch. \nGenießen Sie einen entspannten Sonntagvormittag bei einem geführten Spaziergang durch die charmante Badener Innenstadt und lassen Sie sich von Kunst und Kultur inspirieren. Zum krönenden Abschluss erwartet Sie ein köstlicher Lunch im stilvollen At the Park Hotel direkt am Kurpark – der perfekte Ausklang für einen genussvollen Vormittag. \nBeginn: 10 Uhr im Arnulf Rainer Museum\nDauer: ca. 2 Stunden\, danach kulinarischer Ausklang im Hotel At the Park\nPreis: € 35\,- pro Person \nIm Preis enthalten: Eintritte und Führungen\, Lunch im Hotel (Rindsgulasch oder Quiche\, hausgemacht\, dazu ein Glas Frizzante oder Bier). \nBitte beachten Sie!\nDie Teilnahme an diesem Programm ist ausschließlich mit einem im Voraus gebuchten Onlineticket möglich (Buchungsschluss: Freitag vor dem jeweiligen Termin). Hier geht es zur Buchung! \nFür kurzfristige Buchungen oder Fragen steht Ihnen das Arnulf Rainer Museum gerne telefonisch zur Verfügung: 02252 209 196.\nweitere Termine: Sonntag\, 12. April 2026\, Sonntag\, 28. Juni 2026 und 29. November 2026. \n 
URL:https://www.beethovenhaus-baden.at/event/badener-museentour-kunst-kultur-kulinarik/
ATTACH;FMTTYPE=image/jpeg:https://www.beethovenhaus-baden.at/wp-content/uploads/2025/09/Museentour-neu.jpg
END:VEVENT
END:VCALENDAR