BEGIN:VCALENDAR
VERSION:2.0
PRODID:-//Beethovenhaus Baden - ECPv6.15.20//NONSGML v1.0//EN
CALSCALE:GREGORIAN
METHOD:PUBLISH
X-WR-CALNAME:Beethovenhaus Baden
X-ORIGINAL-URL:https://www.beethovenhaus-baden.at
X-WR-CALDESC:Veranstaltungen für Beethovenhaus Baden
REFRESH-INTERVAL;VALUE=DURATION:PT1H
X-Robots-Tag:noindex
X-PUBLISHED-TTL:PT1H
BEGIN:VTIMEZONE
TZID:Europe/Vienna
BEGIN:DAYLIGHT
TZOFFSETFROM:+0100
TZOFFSETTO:+0200
TZNAME:CEST
DTSTART:20240331T010000
END:DAYLIGHT
BEGIN:STANDARD
TZOFFSETFROM:+0200
TZOFFSETTO:+0100
TZNAME:CET
DTSTART:20241027T010000
END:STANDARD
BEGIN:DAYLIGHT
TZOFFSETFROM:+0100
TZOFFSETTO:+0200
TZNAME:CEST
DTSTART:20250330T010000
END:DAYLIGHT
BEGIN:STANDARD
TZOFFSETFROM:+0200
TZOFFSETTO:+0100
TZNAME:CET
DTSTART:20251026T010000
END:STANDARD
BEGIN:DAYLIGHT
TZOFFSETFROM:+0100
TZOFFSETTO:+0200
TZNAME:CEST
DTSTART:20260329T010000
END:DAYLIGHT
BEGIN:STANDARD
TZOFFSETFROM:+0200
TZOFFSETTO:+0100
TZNAME:CET
DTSTART:20261025T010000
END:STANDARD
END:VTIMEZONE
BEGIN:VEVENT
DTSTART;TZID=Europe/Vienna:20251109T123000
DTEND;TZID=Europe/Vienna:20251109T150000
DTSTAMP:20260424T213941
CREATED:20250401T085055Z
LAST-MODIFIED:20250401T085449Z
UID:3799-1762691400-1762700400@www.beethovenhaus-baden.at
SUMMARY:Brunch in a-Moll - Kaffee und Kultur
DESCRIPTION:Genießen Sie einen einzigartigen Tag voller Kulinarik und Kultur!\nUm 12.30 Uhr erwartet Sie ein liebevoll gedeckter Tisch. Frisches Gebäck\, feine Bratwürste\, serviert mit gebratenen Tomaten\, Champignons\, Speck\, Jungzwiebeln und Spiegelei – dieses Brunch-Erlebnis à la Gasser wird Sie begeistern! Nach dem Genuss werden Sie ins Beethovenhaus begleitet\, wo um 14 Uhr die Führung beginnt. Tauchen Sie ein in das Leben des Musikgenies und begegnen Sie dem Komponisten auf völlig neue\, überraschende Weise.\nKunst und Kultur trifft Genuss – das perfekte Programm\, um gemeinsam besondere Momente zu erleben. \nHier geht es zur Reservierung! \nPreis pro Person (inkl. Eintritt mit Führung um 14 Uhr): € 21\,- (exklusive Getränke) \nBeethovens Essgewohnheiten?\nZu seinen Essgewohnheiten gibt es keine direkten Belege. Es ist jedoch bekannt\, dass er nicht selbst kochte\, sondern auswärts speiste oder seine Haushälterin mit der Zubereitung seiner Mahlzeiten beauftragte. Diese musste penibel Buch über alle Einkäufe und Ausgaben führen.\nZu seinen Lieblingsgerichten zählte eine herzhafte Brotsuppe mit Zwiebeln\, die er mit Eiern verfeinerte. Offensichtlich bevorzugte er gehaltvolle Speisen.\nAuch Kaffee – neben Wein – war eines der Getränke\, die er sich gerne gönnte. Zu Beethovens Zeit galt Kaffee als Luxusprodukt. Dies könnte erklären\, warum er ein besonderes Ritual pflegte: Für die Zubereitung seines Kaffees zählte er stets genau 60 Bohnen ab.
URL:https://www.beethovenhaus-baden.at/event/brunch-in-a-moll-kaffee-und-kultur-13/
LOCATION:Beethovenhaus Baden\, Rathausgasse 10\, Baden\, 2500
ATTACH;FMTTYPE=image/jpeg:https://www.beethovenhaus-baden.at/wp-content/uploads/2025/02/Foto-Collage-brunch-a-Moll.jpg
END:VEVENT
BEGIN:VEVENT
DTSTART;TZID=Europe/Vienna:20251120T190000
DTEND;TZID=Europe/Vienna:20251120T190000
DTSTAMP:20260424T213941
CREATED:20250116T110515Z
LAST-MODIFIED:20251112T095101Z
UID:3576-1763665200-1763665200@www.beethovenhaus-baden.at
SUMMARY:"Beethoven\, Lehrer und Verehrer" - Konzert mit dem Cuore Piano Trio
DESCRIPTION:Cuore Piano Trio\nZuzanna Budzyńska\, Violine\nJonathan Gerstner\, Cello\nSzymon Ogryzek\, Hammerklavier \nProgramm:\nHaydn – Klaviertrio in Es-Dur Nr. 45 Hob. XV:29\nPoco allegretto\nAndantino ed innocentemente\nPresto assai. In the German style (Allemande) \nSchubert – Sonatensatz in B-Dur D. 28 \nvan Beethoven – Klaviertrio in c-Moll Op. 1 Nr. 3\nAllegro con brio\nAndante cantabile\nMenuetto: Quasi Allegro\nPrestissimo \nTickets\nErwachsene: € 25\,- / Ermäßigt (Schüler u. Schülerinnen\, Studierende): € 12\,-\nInformationen und Tickets unter +43 2252 86800-630 / tickets@beethovenhaus-baden.at oder im Beethovenhaus Baden (DI–SO und Feiertage 10–18 Uhr)
URL:https://www.beethovenhaus-baden.at/event/beethoven-lehrer-und-verehrer-konzert-mit-dem-cuore-piano-trio/
LOCATION:Beethovenhaus Baden\, Rathausgasse 10\, Baden\, 2500
ATTACH;FMTTYPE=image/jpeg:https://www.beethovenhaus-baden.at/wp-content/uploads/2025/01/Foto-Webseite-4.jpg
END:VEVENT
BEGIN:VEVENT
DTSTART;TZID=Europe/Vienna:20251129T110000
DTEND;TZID=Europe/Vienna:20251129T120000
DTSTAMP:20260424T213941
CREATED:20250507T071216Z
LAST-MODIFIED:20250825T073544Z
UID:3865-1764414000-1764417600@www.beethovenhaus-baden.at
SUMMARY:Ein tauber Komponist? Führung in Gebärdensprache durch das Beethovenhaus Baden
DESCRIPTION:In Baden bei Wien hat der berühmte Komponist Ludwig van Beethoven viele Sommer verbracht\, im Haus in der Rathausgasse 10 die Jahre 1821 bis 1823. Zu dieser Zeit war er bereits vollständig ertaubt und konnte nur mit Hilfe der Konversationshefte seine Gesprächspartner verstehen. Trotzdem komponierte er in diesen Jahren noch bedeutende Musikstücke\, darunter die 9. Symphonie. Im Beethovenhaus Baden kann man dem Komponisten auf besondere Weise begegnen und in den Alltag eines Komponisten vor 200 Jahren eintauchen. Neben der multimedialen Präsentation des 4. Satzes der 9. Symphonie ermöglicht vor allem das Hörlabor besondere Einblicke rund um die Ertaubung des Komponisten. Musik kann dort durch ein spezielles „Knochentelefon“ gespürt werden.\nIm Rahmen der Führung mit Gebärdensprachedolmetschung wird Leben und Werk dieses berühmten Musikers vorgestellt. \nFührung: frei\nEintritt: € 10\,- (Senior:innen\, Studierende € 6\,-) \nAnmeldung bitte hier\, WITAF!
URL:https://www.beethovenhaus-baden.at/event/ein-tauber-komponist-fuehrung-durch-das-beethovenhaus-in-gebaerdensprache/
ATTACH;FMTTYPE=image/jpeg:https://www.beethovenhaus-baden.at/wp-content/uploads/2025/03/Hoerrohr-1.jpg
END:VEVENT
BEGIN:VEVENT
DTSTART;TZID=Europe/Vienna:20251130T123000
DTEND;TZID=Europe/Vienna:20251130T150000
DTSTAMP:20260424T213941
CREATED:20250401T085220Z
LAST-MODIFIED:20250401T085220Z
UID:3801-1764505800-1764514800@www.beethovenhaus-baden.at
SUMMARY:Brunch in a-Moll - Kaffee und Kultur
DESCRIPTION:Genießen Sie einen einzigartigen Tag voller Kulinarik und Kultur!\nUm 12.30 Uhr erwartet Sie ein liebevoll gedeckter Tisch. Frisches Gebäck\, feine Bratwürste\, serviert mit gebratenen Tomaten\, Champignons\, Speck\, Jungzwiebeln und Spiegelei – dieses Brunch-Erlebnis à la Gasser wird Sie begeistern! Nach dem Genuss werden Sie ins Beethovenhaus begleitet\, wo um 14 Uhr die Führung beginnt. Tauchen Sie ein in das Leben des Musikgenies und begegnen Sie dem Komponisten auf völlig neue\, überraschende Weise.\nKunst und Kultur trifft Genuss – das perfekte Programm\, um gemeinsam besondere Momente zu erleben. \nHier geht es zur Reservierung! \nPreis pro Person (inkl. Eintritt mit Führung um 14 Uhr): € 21\,- (exklusive Getränke) \nBeethovens Essgewohnheiten?\nZu seinen Essgewohnheiten gibt es keine direkten Belege. Es ist jedoch bekannt\, dass er nicht selbst kochte\, sondern auswärts speiste oder seine Haushälterin mit der Zubereitung seiner Mahlzeiten beauftragte. Diese musste penibel Buch über alle Einkäufe und Ausgaben führen.\nZu seinen Lieblingsgerichten zählte eine herzhafte Brotsuppe mit Zwiebeln\, die er mit Eiern verfeinerte. Offensichtlich bevorzugte er gehaltvolle Speisen.\nAuch Kaffee – neben Wein – war eines der Getränke\, die er sich gerne gönnte. Zu Beethovens Zeit galt Kaffee als Luxusprodukt. Dies könnte erklären\, warum er ein besonderes Ritual pflegte: Für die Zubereitung seines Kaffees zählte er stets genau 60 Bohnen ab.
URL:https://www.beethovenhaus-baden.at/event/brunch-in-a-moll-kaffee-und-kultur-14/
LOCATION:Beethovenhaus Baden\, Rathausgasse 10\, Baden\, 2500
ATTACH;FMTTYPE=image/jpeg:https://www.beethovenhaus-baden.at/wp-content/uploads/2025/02/Foto-Collage-brunch-a-Moll.jpg
END:VEVENT
END:VCALENDAR