BEGIN:VCALENDAR
VERSION:2.0
PRODID:-//Beethovenhaus Baden - ECPv6.15.20//NONSGML v1.0//EN
CALSCALE:GREGORIAN
METHOD:PUBLISH
X-ORIGINAL-URL:https://www.beethovenhaus-baden.at
X-WR-CALDESC:Veranstaltungen für Beethovenhaus Baden
REFRESH-INTERVAL;VALUE=DURATION:PT1H
X-Robots-Tag:noindex
X-PUBLISHED-TTL:PT1H
BEGIN:VTIMEZONE
TZID:Europe/Vienna
BEGIN:DAYLIGHT
TZOFFSETFROM:+0100
TZOFFSETTO:+0200
TZNAME:CEST
DTSTART:20240331T010000
END:DAYLIGHT
BEGIN:STANDARD
TZOFFSETFROM:+0200
TZOFFSETTO:+0100
TZNAME:CET
DTSTART:20241027T010000
END:STANDARD
BEGIN:DAYLIGHT
TZOFFSETFROM:+0100
TZOFFSETTO:+0200
TZNAME:CEST
DTSTART:20250330T010000
END:DAYLIGHT
BEGIN:STANDARD
TZOFFSETFROM:+0200
TZOFFSETTO:+0100
TZNAME:CET
DTSTART:20251026T010000
END:STANDARD
BEGIN:DAYLIGHT
TZOFFSETFROM:+0100
TZOFFSETTO:+0200
TZNAME:CEST
DTSTART:20260329T010000
END:DAYLIGHT
BEGIN:STANDARD
TZOFFSETFROM:+0200
TZOFFSETTO:+0100
TZNAME:CET
DTSTART:20261025T010000
END:STANDARD
END:VTIMEZONE
BEGIN:VEVENT
DTSTART;TZID=Europe/Vienna:20251002T180000
DTEND;TZID=Europe/Vienna:20251002T190000
DTSTAMP:20260424T231413
CREATED:20250714T100053Z
LAST-MODIFIED:20250915T080436Z
UID:3980-1759428000-1759431600@www.beethovenhaus-baden.at
SUMMARY:Hört\, hört... "Hören wie Beethoven?" - Hörverlust verstehen und begegnen. Mit Christina Niedziella
DESCRIPTION:Gemeinsam mit der Hörakkustikmeisterin Christina Niedziella widmen wir uns dem Thema Hörschwäche in der heutigen Zeit. Im Hörlabor des Beethovenhauses kann man nachvollziehen\, was es bedeutet\, wenn das Hörvermögen nachlässt. Welche Auswirkungen bringt ein Hörverlust mit sich? Wie können wir dem entgegenwirken? Welchen Zusammenhang gibt es zwischen Hörminderung und Demenz?\nWelche moderne Hörlösungen gibt es? Anders als zu Beethovens Zeiten ermöglichen Hörgeräte heute\, nicht von der Gesellschaft ausgeschlossen zu sein.\nNutzen Sie auch das Angebot eines kurzen kostenlosen Hörtests. \nEintritt frei!\nAnmeldung erforderlich unter 02252 86800-630 oder tickets@beethovenhaus-baden.at oder direkt im Beethovenhaus Baden\, Rathausgasse 10.
URL:https://www.beethovenhaus-baden.at/event/hoert-hoert-hoeren-wie-beethoven-hoerverlust-verstehen-und-begegnen-mit-christina-niedziella/
ATTACH;FMTTYPE=image/jpeg:https://www.beethovenhaus-baden.at/wp-content/uploads/2025/07/Foto-Webseite.jpg
END:VEVENT
BEGIN:VEVENT
DTSTART;TZID=Europe/Vienna:20251004T103000
DTEND;TZID=Europe/Vienna:20251004T120000
DTSTAMP:20260424T231413
CREATED:20221220T111317Z
LAST-MODIFIED:20250917T102744Z
UID:1223-1759573800-1759579200@www.beethovenhaus-baden.at
SUMMARY:Letzte Möglichkeit!!!! Hört Beethoven!? - das Kinderprogramm im Beethovenhaus Baden
DESCRIPTION:HÖRT BEETHOVEN!? –\ndas Kinderprogramm im Beethovenhaus Baden \nDie interaktive Führung für Kinder findet dieses Mal vorerst das letzte Mal statt! \nWar Beethoven wirklich fast taub? Kann man Töne auch sehen oder schmecken? Was heißt eigentlich komponieren? Hatte Beethoven schon eine Taschenlampe? Wie klingt ein Hammerflügel? All diese Fragen rund um Beethoven\, seine Musik\, seine Aufenthalte in Baden und das Leben im Biedermeier werden in dieser interaktiven Spurensuche behandelt. Die Kinder erleben\, was es heißt\, nichts zu hören und bekommen einen ersten Einblick in das Leben des großen Komponisten Ludwig van Beethoven! \nEintritt und Führung: € 5\,-\nAnmeldung: +43 2252 86800-630\,E-Mail: shop@beethovenhaus-baden.at oder im Beethovenhaus Baden (Öffnungszeiten: DI – SO u. Feiertage 10 bis 18 Uhr)\nwww.beethovenhaus-baden.at \n 
URL:https://www.beethovenhaus-baden.at/event/hoert-beethoven-das-kinderprogramm-im-beethovenhaus-baden/
LOCATION:Beethovenhaus Baden\, Rathausgasse 10\, Baden\, 2500
ATTACH;FMTTYPE=image/jpeg:https://www.beethovenhaus-baden.at/wp-content/uploads/2022/12/Foto-Kinder-neu-scaled.jpg
END:VEVENT
BEGIN:VEVENT
DTSTART;TZID=Europe/Vienna:20251004T180000
DTEND;TZID=Europe/Vienna:20251004T235900
DTSTAMP:20260424T231413
CREATED:20250521T111850Z
LAST-MODIFIED:20250521T111850Z
UID:3914-1759600800-1759622340@www.beethovenhaus-baden.at
SUMMARY:LANGE NACHT DER MUSEEN
DESCRIPTION:KLANG OHNE GRENZEN Beethoven kurte regelmäßig in Baden und arbeitete hier an der Fertigstellung der 9. Symphonie\, als er bereits fast gänzlich ertaubt war. Erfahren Sie mehr darüber\, was der Gehörverlust für den Komponisten bedeutete und welche Möglichkeiten der Kommunikation es für ihn gab. \nRegionalticket: € 7\,-\nWeitere Infos!
URL:https://www.beethovenhaus-baden.at/event/lange-nacht-der-museen-4/
LOCATION:Beethovenhaus Baden\, Rathausgasse 10\, Baden\, 2500
ATTACH;FMTTYPE=image/jpeg:https://www.beethovenhaus-baden.at/wp-content/uploads/2025/05/BH-Lange-Nacht.jpg
END:VEVENT
BEGIN:VEVENT
DTSTART;TZID=Europe/Vienna:20251012T123000
DTEND;TZID=Europe/Vienna:20251012T150000
DTSTAMP:20260424T231413
CREATED:20250401T084945Z
LAST-MODIFIED:20250401T084945Z
UID:3797-1760272200-1760281200@www.beethovenhaus-baden.at
SUMMARY:Brunch in a-Moll - Kaffee und Kultur
DESCRIPTION:Genießen Sie einen einzigartigen Tag voller Kulinarik und Kultur!\nUm 12.30 Uhr erwartet Sie ein liebevoll gedeckter Tisch. Frisches Gebäck\, feine Bratwürste\, serviert mit gebratenen Tomaten\, Champignons\, Speck\, Jungzwiebeln und Spiegelei – dieses Brunch-Erlebnis à la Gasser wird Sie begeistern! Nach dem Genuss werden Sie ins Beethovenhaus begleitet\, wo um 14 Uhr die Führung beginnt. Tauchen Sie ein in das Leben des Musikgenies und begegnen Sie dem Komponisten auf völlig neue\, überraschende Weise.\nKunst und Kultur trifft Genuss – das perfekte Programm\, um gemeinsam besondere Momente zu erleben. \nHier geht es zur Reservierung! \nPreis pro Person (inkl. Eintritt mit Führung um 14 Uhr): € 21\,- (exklusive Getränke) \nBeethovens Essgewohnheiten?\nZu seinen Essgewohnheiten gibt es keine direkten Belege. Es ist jedoch bekannt\, dass er nicht selbst kochte\, sondern auswärts speiste oder seine Haushälterin mit der Zubereitung seiner Mahlzeiten beauftragte. Diese musste penibel Buch über alle Einkäufe und Ausgaben führen.\nZu seinen Lieblingsgerichten zählte eine herzhafte Brotsuppe mit Zwiebeln\, die er mit Eiern verfeinerte. Offensichtlich bevorzugte er gehaltvolle Speisen.\nAuch Kaffee – neben Wein – war eines der Getränke\, die er sich gerne gönnte. Zu Beethovens Zeit galt Kaffee als Luxusprodukt. Dies könnte erklären\, warum er ein besonderes Ritual pflegte: Für die Zubereitung seines Kaffees zählte er stets genau 60 Bohnen ab.
URL:https://www.beethovenhaus-baden.at/event/brunch-in-a-moll-kaffee-und-kultur-12/
LOCATION:Beethovenhaus Baden\, Rathausgasse 10\, Baden\, 2500
ATTACH;FMTTYPE=image/jpeg:https://www.beethovenhaus-baden.at/wp-content/uploads/2025/02/Foto-Collage-brunch-a-Moll.jpg
END:VEVENT
BEGIN:VEVENT
DTSTART;TZID=Europe/Vienna:20251016T190000
DTEND;TZID=Europe/Vienna:20251016T200000
DTSTAMP:20260424T231413
CREATED:20250116T103901Z
LAST-MODIFIED:20251016T093929Z
UID:3574-1760641200-1760644800@www.beethovenhaus-baden.at
SUMMARY:AUSVERKAUFT!!! 9. Symphonie zu vier Händen - Konzert mit Michael Capek und Benedikt Holter
DESCRIPTION:Klavierfassung von Carl Czerny\nMichael Capek\, Hammerklavier\nBenedikt Holter\, Hammerklavier \nTickets\nErwachsene: € 25\,- / Ermäßigt (Schüler u. Schülerinnen\, Studierende): € 12\,-\nInformationen und Tickets unter +43 2252 86800-630 / tickets@beethovenhaus-baden.at oder im Beethovenhaus Baden (DI–SO und Feiertage 10–18 Uhr)
URL:https://www.beethovenhaus-baden.at/event/9-symphonie-zu-vier-haenden-konzert-mit-michael-capek-und-benedikt-holter/
LOCATION:Beethovenhaus Baden\, Rathausgasse 10\, Baden\, 2500
ATTACH;FMTTYPE=image/jpeg:https://www.beethovenhaus-baden.at/wp-content/uploads/2025/01/Foto-Webseite-3.jpg
END:VEVENT
END:VCALENDAR