BEGIN:VCALENDAR
VERSION:2.0
PRODID:-//Beethovenhaus Baden - ECPv6.15.20//NONSGML v1.0//EN
CALSCALE:GREGORIAN
METHOD:PUBLISH
X-ORIGINAL-URL:https://www.beethovenhaus-baden.at
X-WR-CALDESC:Veranstaltungen für Beethovenhaus Baden
REFRESH-INTERVAL;VALUE=DURATION:PT1H
X-Robots-Tag:noindex
X-PUBLISHED-TTL:PT1H
BEGIN:VTIMEZONE
TZID:Europe/Vienna
BEGIN:DAYLIGHT
TZOFFSETFROM:+0100
TZOFFSETTO:+0200
TZNAME:CEST
DTSTART:20220327T010000
END:DAYLIGHT
BEGIN:STANDARD
TZOFFSETFROM:+0200
TZOFFSETTO:+0100
TZNAME:CET
DTSTART:20221030T010000
END:STANDARD
BEGIN:DAYLIGHT
TZOFFSETFROM:+0100
TZOFFSETTO:+0200
TZNAME:CEST
DTSTART:20230326T010000
END:DAYLIGHT
BEGIN:STANDARD
TZOFFSETFROM:+0200
TZOFFSETTO:+0100
TZNAME:CET
DTSTART:20231029T010000
END:STANDARD
BEGIN:DAYLIGHT
TZOFFSETFROM:+0100
TZOFFSETTO:+0200
TZNAME:CEST
DTSTART:20240331T010000
END:DAYLIGHT
BEGIN:STANDARD
TZOFFSETFROM:+0200
TZOFFSETTO:+0100
TZNAME:CET
DTSTART:20241027T010000
END:STANDARD
END:VTIMEZONE
BEGIN:VEVENT
DTSTART;TZID=Europe/Vienna:20230505T190000
DTEND;TZID=Europe/Vienna:20230505T200000
DTSTAMP:20260424T172052
CREATED:20230111T092958Z
LAST-MODIFIED:20230424T071020Z
UID:1243-1683313200-1683316800@www.beethovenhaus-baden.at
SUMMARY:ZU BESUCH BEI BEETHOVEN - Thomas Leibnitz\, ehemaliger Leiter der Musiksammlung der ÖNB\, zu Gast bei Johannes Leopold Mayer
DESCRIPTION:In der Reihe ZU BESUCH BEI BEETHOVEN empfängt Johannes Leopold Mayer\, langjähriger Ö1 Redakteur\, Gäste aus der Welt der Musik und Wissenschaft\, um mit ihnen über Ludwig van Beethoven zu plaudern. Dabei werden die Gäste\, ob mit Stimme oder Instrument\, das eine oder andere Musikbeispiel zum Besten geben. \nHeutiger Gast: Thomas Leibnitz\nDr. Thomas Leibnitz war bis zu seiner Pensionierung Leiter der Musiksammlung der Österreichischen Nationalbibliothek. In dieser Funktion war der Umgang mit den geistigen und schriftlichen Hinterlassenschaften bedeutender Menschen aus dem Bereich der Musik sein „täglich Brot“. Dabei hat er aber ebenso die Widerstände und Bosheiten kennengelernt\, welchen eben diesen Großen vonseiten zunächst unverständiger oder auf eigene Positionen pochender Kritiker ausgesetzt gewesen sind. Sein neuestes Buch „Verrisse“ birgt darin Einblick und zeigt\, dass auch Beethoven keineswegs verschont geblieben ist\, sich aber drastisch zu wehren gewusst hat. \nBeginn 19 Uhr / Einlass ab 18.40 Uhr\nErwachsene: € 19\,-\nSchüler und Schülerinnen\, Studierende: € 11\,-\nReservierung erforderlich:+43 2252 86800-630 / tickets@beethovenhaus-baden.at
URL:https://www.beethovenhaus-baden.at/event/zu-besuch-bei-beethoven-thomas-leibnitz-ehemaliger-leiter-der-musiksammlung-der-oenb-zu-gast-bei-johannes-leopold-mayer/
ATTACH;FMTTYPE=image/jpeg:https://www.beethovenhaus-baden.at/wp-content/uploads/2023/01/Pressefoto-Dr.-Leibnitz-©Stefan-Engl.jpg
END:VEVENT
BEGIN:VEVENT
DTSTART;TZID=Europe/Vienna:20230518T140000
DTEND;TZID=Europe/Vienna:20230518T150000
DTSTAMP:20260424T172052
CREATED:20230502T103549Z
LAST-MODIFIED:20230502T103737Z
UID:1922-1684418400-1684422000@www.beethovenhaus-baden.at
SUMMARY:Museumsfrühling Niederösterreich - Familienführung "Beethovens nachhaltiges Erbe in Baden" (Führung frei\, Eintritt ermäßigt)
DESCRIPTION:Ludwig van Beethoven kurte regelmäßig in Baden und hinterließ wie kein anderer nachhaltig seine Spuren in der Stadt. Dies wird auf besondere Weise im Haus der Rathausgasse 10 erlebbar\, in dem der Künstler drei Sommer in Folge\, von 1821 bis 1823 gewohnt hat. Die biedermeierlichen Wohnräume mit originalen Wandmalereien geben einen Einblick in Beethovens Badener Leben und Umfeld. Die inspirierende Kraft\, die der Komponist während seiner Aufenthalte verspürte\, wird in dem modernen Museum für Besucher/innen erfahrbar und hörbar gemacht. \nUm Voranmeldung wird gebeten: 02252 86800-630 oder tickets@beethovenhaus-baden.at\nEintritt: Halbpreis\, Kinder und Schüler:innen (bis 18 Jahre): gratis\nFührung: frei
URL:https://www.beethovenhaus-baden.at/event/museumsfruehling-niederoesterreich-familienfuehrung-beethovens-nachhaltiges-erbe-in-baden-fuehrung-frei-eintritt-ermaessigt/
ATTACH;FMTTYPE=image/jpeg:https://www.beethovenhaus-baden.at/wp-content/uploads/2023/05/BH.jpg
END:VEVENT
BEGIN:VEVENT
DTSTART;TZID=Europe/Vienna:20230525T190000
DTEND;TZID=Europe/Vienna:20230525T200000
DTSTAMP:20260424T172052
CREATED:20230220T113954Z
LAST-MODIFIED:20230505T070226Z
UID:1274-1685041200-1685044800@www.beethovenhaus-baden.at
SUMMARY:Konzert "4 Hände am Beethovenflügel" mit Wolfgang und Michael Capek
DESCRIPTION:4 Hände spielen Beethoven\, Mozart und Schubert – Vater und Sohn\, Wolfgang und Michael Capek\, am Hammerklavier. \nTickets: Erwachsene: € 25\,- / Ermässigt (Schüler u. Schülerinnen\, Studierende): € 12\,-\nInformationen und Tickets: im Beethovenhaus Baden\, Rathausgasse 10\, 2500 Baden (Di-So und Feiertage: 10 – 18 Uhr) / +43 2252 86800-630 / tickets@beethovenhaus-baden.at \nPROGRAMM\nLudwig van Beethoven (1770 – 1827)\nMarsch in c-Moll\, Allegro ma non troppo\, Op. 45/1 \nWolfgang Amadeus Mozart (1756 – 1791)\nSonate für Klavier zu vier Händen D-Dur\, KV 381 \n\nAllegro\nAndante\nAllegro molto\n\nLudwig van Beethoven (1770 – 1827)\nSechs Variationen über das Lied „Ich denke dein“ von Goethe für zwei Singstimmen unisono und Klavier zu vier Händen (D-Dur)\, WoO 74 \nFranz Schubert (1797 – 1828)\nFantasie in f-Moll für Klavier zu vier Händen\, D 940 \n\nAllegro molto moderato\nLargo\nAllegro vivace\nAllegro molto moderato\n\n 
URL:https://www.beethovenhaus-baden.at/event/konzert-4-haende-am-beethovenfluegel-mit-wolfgang-und-michael-capek/
ATTACH;FMTTYPE=image/jpeg:https://www.beethovenhaus-baden.at/wp-content/uploads/2023/02/Foto-HP.jpg
END:VEVENT
END:VCALENDAR