BEGIN:VCALENDAR
VERSION:2.0
PRODID:-//Beethovenhaus Baden - ECPv6.15.20//NONSGML v1.0//EN
CALSCALE:GREGORIAN
METHOD:PUBLISH
X-WR-CALNAME:Beethovenhaus Baden
X-ORIGINAL-URL:https://www.beethovenhaus-baden.at
X-WR-CALDESC:Veranstaltungen für Beethovenhaus Baden
REFRESH-INTERVAL;VALUE=DURATION:PT1H
X-Robots-Tag:noindex
X-PUBLISHED-TTL:PT1H
BEGIN:VTIMEZONE
TZID:Europe/Vienna
BEGIN:DAYLIGHT
TZOFFSETFROM:+0100
TZOFFSETTO:+0200
TZNAME:CEST
DTSTART:20220327T010000
END:DAYLIGHT
BEGIN:STANDARD
TZOFFSETFROM:+0200
TZOFFSETTO:+0100
TZNAME:CET
DTSTART:20221030T010000
END:STANDARD
BEGIN:DAYLIGHT
TZOFFSETFROM:+0100
TZOFFSETTO:+0200
TZNAME:CEST
DTSTART:20230326T010000
END:DAYLIGHT
BEGIN:STANDARD
TZOFFSETFROM:+0200
TZOFFSETTO:+0100
TZNAME:CET
DTSTART:20231029T010000
END:STANDARD
BEGIN:DAYLIGHT
TZOFFSETFROM:+0100
TZOFFSETTO:+0200
TZNAME:CEST
DTSTART:20240331T010000
END:DAYLIGHT
BEGIN:STANDARD
TZOFFSETFROM:+0200
TZOFFSETTO:+0100
TZNAME:CET
DTSTART:20241027T010000
END:STANDARD
END:VTIMEZONE
BEGIN:VEVENT
DTSTART;TZID=Europe/Vienna:20230301T080000
DTEND;TZID=Europe/Vienna:20230301T120000
DTSTAMP:20260424T140029
CREATED:20221124T110200Z
LAST-MODIFIED:20221125T085355Z
UID:1192-1677657600-1677672000@www.beethovenhaus-baden.at
SUMMARY:Schule schaut Museum - Aktionstag. Führungen für Volksschulkinder "Hört Beethoven!?"
DESCRIPTION:Schule schaut Museum – „Hört Beethoven!?“\nInteraktives Kinderprogramm für die Volksschule \nWar Beethoven wirklich fast taub? Kann man Töne auch hören oder schmecken? Was heißt eigentlich komponieren? Hatte Beethoven schon eine Taschenlampe? Wie klingt ein Hammerflügel? All diese Fragen rund um Beethoven\, seine Musik\, seine Aufenthalte in Baden und das Leben im Biedermeier werden in dieser interaktiven Spurensuche behandelt. Die Kinder erleben\, was es heißt\, nichts zu hören und bekommen einen ersten Einblick in das Leben des großen Komponisten Ludwig van Beethoven! \nEckdaten: Beginnzeiten: 8.00 | 10.00\nDauer: ca. 90 Minuten\nTeilnahme-Begrenzung: 1 Klasse pro Führung \nAnmeldung: klassenweise Anmeldung erforderlich (bitte um Angabe der Schulstufe\, Schulform und einer Kontaktperson für mögliche Rückfragen): Tel. 02252/86800-585\n(Gabi Fischer) oder willkommen@beethovenhaus-baden.at. \nEintritt und Programm frei! \nBeethovenhaus Baden \, Rathausgasse 10\, 2500 Baden\, www.beeethovenhaus-baden.at
URL:https://www.beethovenhaus-baden.at/event/schule-schaut-museum-aktionstag-fuehrungen-fuer-volksschulkinder-hoert-beethoven/
ATTACH;FMTTYPE=image/jpeg:https://www.beethovenhaus-baden.at/wp-content/uploads/2021/06/Hereinspaziert_01.jpg
END:VEVENT
BEGIN:VEVENT
DTSTART;TZID=Europe/Vienna:20230316T190000
DTEND;TZID=Europe/Vienna:20230316T200000
DTSTAMP:20260424T140029
CREATED:20221024T103102Z
LAST-MODIFIED:20230314T110234Z
UID:1180-1678993200-1678996800@www.beethovenhaus-baden.at
SUMMARY:Beethoven Konzert mit Carola Krebs\, Violoncello und Aimo Pagin\, Hammerklavier - AUSVERKAUFT\, nur mehr Plätze mit Sichteinschränkung
DESCRIPTION:Carola Krebs\, gebürtige Badenerin und mehrfache Preisträgerin\, hat in Wien\, Paris und London studiert. 2017 gab sie in London und Italien ihr Solisten Debüt mit der Southbank Sinfonia. Sie gibt Konzerte im In- und Ausland an weltberühmten Spielorten wie St. Martin in the Fields\, Royal Albert Hall\, Musikverein\, Konzerthaus Wien… und spielt regelmäßig Studioaufnahmen\, u.a. für das National Theater in London und Netflix. Seit 2020 hat sie einen Lehrauftrag am Konservatorium Graz und ist Dozentin bei den „Austrian Masterclasses“. \nAimo Pagin hat in Frankreich\, Schweiz und den USA studiert und zählt zu den bedeutendsten französischen Pianisten seiner Generation. Er errang in internationalen Klavierwettbewerben zahlreiche Preise und Auszeichnungen\, heute ist er mit Solo- und Orchesterkonzerten auf den größten Podien der Welt zuhause.\nSeine Interpretationen des klassischen\, romantischen und des Repertoires des 20. Jahrhunderts finden immer wieder grossen Anklang bei Presse und Publikum. Er konzertierte in der New Yorker Carnegie Hall\, im Asterdamer Concertgebouw uvm.\nAimo Pagin lebt in Wien und ist seit Mai 2019 offiziell Bösendorfer Artist geworden. \nProgramm\n7 Variationen „bei Männern welche Liebe spüren“ für Violoncello und Klavier\nKlavier Sonate Op. 10\, Nr. 2\n12 Variationen „ein Mädchen oder Weibchen“ für Violoncello und Klavier\nRomanze für Violoncello und Klavier\n \nTickets: Erwachsene: € 25\,- / Ermässigt (Schüler u. Schülerinnen\, Studierende): € 12\,-\nInformationen und Tickets: im Beethovenhaus Baden\, Rathausgasse 10\, 2500 Baden (Di-So und Feiertage: 10 – 18 Uhr) / +43 2252 86800-630 / tickets@beethovenhaus-baden.at
URL:https://www.beethovenhaus-baden.at/event/klavierkonzert-carola-krebs-und-waimo-pagin/
ATTACH;FMTTYPE=image/jpeg:https://www.beethovenhaus-baden.at/wp-content/uploads/2022/10/FOTO-HP-neu.jpg
END:VEVENT
END:VCALENDAR