BEGIN:VCALENDAR
VERSION:2.0
PRODID:-//Beethovenhaus Baden - ECPv6.15.20//NONSGML v1.0//EN
CALSCALE:GREGORIAN
METHOD:PUBLISH
X-ORIGINAL-URL:https://www.beethovenhaus-baden.at
X-WR-CALDESC:Veranstaltungen für Beethovenhaus Baden
REFRESH-INTERVAL;VALUE=DURATION:PT1H
X-Robots-Tag:noindex
X-PUBLISHED-TTL:PT1H
BEGIN:VTIMEZONE
TZID:Europe/Vienna
BEGIN:DAYLIGHT
TZOFFSETFROM:+0100
TZOFFSETTO:+0200
TZNAME:CEST
DTSTART:20210328T010000
END:DAYLIGHT
BEGIN:STANDARD
TZOFFSETFROM:+0200
TZOFFSETTO:+0100
TZNAME:CET
DTSTART:20211031T010000
END:STANDARD
BEGIN:DAYLIGHT
TZOFFSETFROM:+0100
TZOFFSETTO:+0200
TZNAME:CEST
DTSTART:20220327T010000
END:DAYLIGHT
BEGIN:STANDARD
TZOFFSETFROM:+0200
TZOFFSETTO:+0100
TZNAME:CET
DTSTART:20221030T010000
END:STANDARD
BEGIN:DAYLIGHT
TZOFFSETFROM:+0100
TZOFFSETTO:+0200
TZNAME:CEST
DTSTART:20230326T010000
END:DAYLIGHT
BEGIN:STANDARD
TZOFFSETFROM:+0200
TZOFFSETTO:+0100
TZNAME:CET
DTSTART:20231029T010000
END:STANDARD
END:VTIMEZONE
BEGIN:VEVENT
DTSTART;TZID=Europe/Vienna:20221203T103000
DTEND;TZID=Europe/Vienna:20221203T120000
DTSTAMP:20260424T154110
CREATED:20221010T085858Z
LAST-MODIFIED:20221010T091121Z
UID:1170-1670063400-1670068800@www.beethovenhaus-baden.at
SUMMARY:Advent im Beethovenhaus Baden - Kinderprogramm
DESCRIPTION:Im Advent-„Hört-Beethoven!?“ lernen Kinder in einer interaktiven Spurensuche den großen Komponisten\, seine Musik und sein Leben in Baden kennen. Wie konnte er\, fast taub\, komponieren? Was heißt eigentlich komponieren? Hat Beethoven auch Weihnachtslieder geschrieben? Und hat er in Baden Weihnachten gefeiert? \nEintritt und Führung: € 5\,-\nUm Anmeldung wird gebeten: Tel: 02252/86 800-630\, E-Mail: tickets@beethovenhaus-baden.at oder im Beethovenhaus Baden (Öffnungszeiten: DI – SO u. Feiertage 10 bis 18 Uhr)\, www.beethovenhaus-baden.at
URL:https://www.beethovenhaus-baden.at/event/advent-im-beethovenhaus-baden-kinderprogramm/
LOCATION:Beethovenhaus Baden\, Rathausgasse 10\, Baden\, 2500
ATTACH;FMTTYPE=image/jpeg:https://www.beethovenhaus-baden.at/wp-content/uploads/2022/10/BH.jpg
END:VEVENT
END:VCALENDAR