BEGIN:VCALENDAR
VERSION:2.0
PRODID:-//Beethovenhaus Baden - ECPv6.15.20//NONSGML v1.0//EN
CALSCALE:GREGORIAN
METHOD:PUBLISH
X-ORIGINAL-URL:https://www.beethovenhaus-baden.at
X-WR-CALDESC:Veranstaltungen für Beethovenhaus Baden
REFRESH-INTERVAL;VALUE=DURATION:PT1H
X-Robots-Tag:noindex
X-PUBLISHED-TTL:PT1H
BEGIN:VTIMEZONE
TZID:Europe/Vienna
BEGIN:DAYLIGHT
TZOFFSETFROM:+0100
TZOFFSETTO:+0200
TZNAME:CEST
DTSTART:20210328T010000
END:DAYLIGHT
BEGIN:STANDARD
TZOFFSETFROM:+0200
TZOFFSETTO:+0100
TZNAME:CET
DTSTART:20211031T010000
END:STANDARD
BEGIN:DAYLIGHT
TZOFFSETFROM:+0100
TZOFFSETTO:+0200
TZNAME:CEST
DTSTART:20220327T010000
END:DAYLIGHT
BEGIN:STANDARD
TZOFFSETFROM:+0200
TZOFFSETTO:+0100
TZNAME:CET
DTSTART:20221030T010000
END:STANDARD
BEGIN:DAYLIGHT
TZOFFSETFROM:+0100
TZOFFSETTO:+0200
TZNAME:CEST
DTSTART:20230326T010000
END:DAYLIGHT
BEGIN:STANDARD
TZOFFSETFROM:+0200
TZOFFSETTO:+0100
TZNAME:CET
DTSTART:20231029T010000
END:STANDARD
END:VTIMEZONE
BEGIN:VEVENT
DTSTART;TZID=Europe/Vienna:20220506T190000
DTEND;TZID=Europe/Vienna:20220506T200000
DTSTAMP:20260425T025353
CREATED:20201104T215347Z
LAST-MODIFIED:20220222T075128Z
UID:196-1651863600-1651867200@www.beethovenhaus-baden.at
SUMMARY:ZU BESUCH BEI BEETHOVEN - Gert Hecher\, Restaurator historischer Klaviere und Pianist zu Gast bei Johannes Leopold Mayer
DESCRIPTION:In der Reihe ZU BESUCH BEI BEETHOVEN empfängt Johannes Leopold Mayer\, langjähriger Ö1 Redakteur\, Gäste aus der Welt der Musik und Wissenschaft\, um mit ihnen über Ludwig van Beethoven zu plaudern. Dabei werden die Gäste\, ob mit Stimme oder Instrument\, das eine oder andere Musikbeispiel zum Besten geben. \nHeutiger Gast: Gert Hecher\, Restaurator historischer Klaviere und Pianist \nBeginn 19 Uhr / Einlass ab 18.40 Uhr\nErwachsene: € 19\,-\nSchüler\, Studenten: € 11\,-\nReservierung erforderlich:+43 2252 86800-630 / tickets@beethovenhaus-baden.at\nFixe Platzzuteilung!\n \nGäste vergangener Abende:\nBirgit Lodes: Universitätsprofessorin für Historische Musikwissenschaft\, Universität Wien.\nBirgit Lodes ist in vielen Bereichen der Musikgeschichte Zuhause. Vom Mittelalter bis zur Romantik reicht ihr Forschungsschwerpunkt\, entsprechend gefragt ist sie bei internationalen Tagungen\, besonders im heurigen Beethovenjahr\, da es ihr der „Wiener Klassiker“ besonders angetan hat. \nVahid Khadem-Missagh: Stv. 1. Konzertmeister beim Tonkünstler Orchester Niederösterreich und seit 2016 künstlerischer Leiter des Festivals Allegro Vivo und der Academia Allegro Vivo. \nDoris und Karin Adam: Die beiden Musikerinnen und Schwestern Doris (Klavier) und Karin Adam (Geige) musizieren seit 1985 auch als Duo. Acht Jahre lang leiteten sie gemeinsam den Kottingbrunner Zyklus „Konzerte hinter dem Schloss“. \nPeter Meissner: Der studierte Maschinenbauer hat sich als Buchautor\, Liedermacher und Kabarettist einen Namen gemacht. Viele Jahre war Peter Meissner als Moderator und Redakteur beim ORF-Landesstudio Niederösterreich tätig und präsentierte u.a. die Sendungen „Melodie und Nostalgie“\, „Klassik am Abend“ und „Swingtime“. \nNorbert Pfafflmeyer: Neurologe\, Dirigent\, Pianist – wie vielseitig! Seit 2007 leitet Norbert Pfafflmeyer das Festival „Tritonus“ im Congress Casino Baden und ist ständiger Gastdirigent der Brünner Philharmoniker. Als Pianist widmet er sich vornehmlich der Kammermusik und Liedbegleitung\, so den Schubert-Liederzyklen mit Wolfgang Bankl. \nMartin Först: stellvertretender Solocellist der Tonkünstler Niederösterreich \nEva Teimel: Romanistin\, Hornistin und ORF-Ö1 Musikredakteurin \nChristian Reiter: Gerichtsmediziner an der Universität Wien \nCar0la Krebs: Cellistin \n 
URL:https://www.beethovenhaus-baden.at/event/zu-besuch-bei-ludwig-van-gert-hecher/
ATTACH;FMTTYPE=image/jpeg:https://www.beethovenhaus-baden.at/wp-content/uploads/2020/11/IMG_4218-scaled.jpg
END:VEVENT
BEGIN:VEVENT
DTSTART;TZID=Europe/Vienna:20220526T190000
DTEND;TZID=Europe/Vienna:20220526T201500
DTSTAMP:20260425T025353
CREATED:20220315T092429Z
LAST-MODIFIED:20220523T064327Z
UID:959-1653591600-1653596100@www.beethovenhaus-baden.at
SUMMARY:Violoncello & Klavier - Konzert mit dem Duo Borodin-Krebs - leider ABGESAGT (Neuer Termin folgt!)
DESCRIPTION:Das “Borodin Krebs Duo” wurde im Herbst 2018 gegründet und setzt sich aus der Cellistin Carola Krebs und dem Pianisten Wladimir Borodin zusammen. Beide Mitglieder verbindet die Liebe und Leidenschaft zur Musik und den Drang die verschiedenen Kulturen in die Sprache der Musik umzusetzen. Zusammen widmen sie sich der reichen und vielseitigen Literatur für ihre Instrumente\, beginnend von der Wiener Klassik bis in die Gegenwart.\nBeide Musiker sind Preisträger zahlreicher Wettbewerbe und konzertieren weltweit. Das Duo sieht seine Berufung\, die Tradition des Genres mit Liebe und Leidenschaft\, aber gleichzeitig auch mit Neugier und Entdeckungsdrang zu erfüllen. \nProgramm\n* 7 Variationen „Bei Männern\, welche Liebe fühlen“ aus der Oper Die Zauberflöte\, WoO 46 – Wolfgang Amadeus Mozart\n* Cellosonate Nr 2 g-Moll\, Op 5\,2 – Ludwig van Beethoven\n* Romanze F-Dur\, Op 50 – Ludwig van Beethoven\n* 12 Variationen „Ein Mädchen oder Weibchen aus der Oper Die Zauberflöte\, Op. 66 – Wolfgang Amadeus Mozart \nTickets: Erwachsene: € 25\,- / Ermässigt (Schüler\, Studenten): € 12\,-\nInformationen und Tickets: im Beethovenhaus Baden\, Rathausgasse 10\, 2500 Baden (Di-So und Feiertage: 10 – 18 Uhr) / +43 2252 86800-630 / tickets@beethovenhaus-baden.at
URL:https://www.beethovenhaus-baden.at/event/violoncello-klavier-konzert-mit-dem-duo-borodin-krebs/
ATTACH;FMTTYPE=image/jpeg:https://www.beethovenhaus-baden.at/wp-content/uploads/2022/03/Kresbs-Borodin.jpg
END:VEVENT
END:VCALENDAR