BEGIN:VCALENDAR
VERSION:2.0
PRODID:-//Beethovenhaus Baden - ECPv6.15.20//NONSGML v1.0//EN
CALSCALE:GREGORIAN
METHOD:PUBLISH
X-WR-CALNAME:Beethovenhaus Baden
X-ORIGINAL-URL:https://www.beethovenhaus-baden.at
X-WR-CALDESC:Veranstaltungen für Beethovenhaus Baden
REFRESH-INTERVAL;VALUE=DURATION:PT1H
X-Robots-Tag:noindex
X-PUBLISHED-TTL:PT1H
BEGIN:VTIMEZONE
TZID:Europe/Vienna
BEGIN:DAYLIGHT
TZOFFSETFROM:+0100
TZOFFSETTO:+0200
TZNAME:CEST
DTSTART:20200329T010000
END:DAYLIGHT
BEGIN:STANDARD
TZOFFSETFROM:+0200
TZOFFSETTO:+0100
TZNAME:CET
DTSTART:20201025T010000
END:STANDARD
BEGIN:DAYLIGHT
TZOFFSETFROM:+0100
TZOFFSETTO:+0200
TZNAME:CEST
DTSTART:20210328T010000
END:DAYLIGHT
BEGIN:STANDARD
TZOFFSETFROM:+0200
TZOFFSETTO:+0100
TZNAME:CET
DTSTART:20211031T010000
END:STANDARD
BEGIN:DAYLIGHT
TZOFFSETFROM:+0100
TZOFFSETTO:+0200
TZNAME:CEST
DTSTART:20220327T010000
END:DAYLIGHT
BEGIN:STANDARD
TZOFFSETFROM:+0200
TZOFFSETTO:+0100
TZNAME:CET
DTSTART:20221030T010000
END:STANDARD
END:VTIMEZONE
BEGIN:VEVENT
DTSTART;TZID=Europe/Vienna:20211002T180000
DTEND;TZID=Europe/Vienna:20211002T235900
DTSTAMP:20260425T144842
CREATED:20210825T105910Z
LAST-MODIFIED:20210826T072322Z
UID:760-1633197600-1633219140@www.beethovenhaus-baden.at
SUMMARY:LANGE NACHT DER MUSEEN
DESCRIPTION:Von 18.00 – 24.00 Uhr!\nBEETHOVEN UND DIE KUR – BEKANNTES UND UNBEKANNTES\nWarum kam Beethoven überhaupt nach Baden? Welche Bäder hat er besucht? Wie war sein Tagesablauf? Stationen für Groß und Klein erzählen davon.\nEinfach kommen und mitmachen. \nRegionalticket: € 6\,- (Kinder bis 12 haben freien Eintritt) im Beethovenhaus Baden erhältlich\nWeitere Infos unter: Lange Nacht der Museen\nNützen Sie auch den Shuttle-Service\, der Sie von einem Badener Museum zum nächsten bringt. \nIn dem Haus Rathausgasse 10\, heute Beethovenhaus Baden\, stieg Beethoven in den Sommern 1821\, 1822 und 1823 ab. In dieser Zeit schrieb er wesentliche Teile der 9. Symphonie. Der berühmte Komponist suchte in der kaiserlichen Kurstadt Baden Heilung von seinen Leiden.\nLeben und Werk des Komponisten werden im Beethovenhaus Baden auf völlig neue\, überraschende Weise präsentiert. Die biedermeierlichen Wohnräume geben einen Einblick in das Leben und Umfeld des Komponisten in der Kurstadt. Darüber hinaus werden seine Kompositionen in besonderer Weise erfahrbar und hörbar gemacht.
URL:https://www.beethovenhaus-baden.at/event/lange-nacht-der-museen/
ATTACH;FMTTYPE=image/jpeg:https://www.beethovenhaus-baden.at/wp-content/uploads/2021/08/Lange-Nacht-der-Museen.jpg
END:VEVENT
BEGIN:VEVENT
DTSTART;TZID=Europe/Vienna:20211014T190000
DTEND;TZID=Europe/Vienna:20211014T200000
DTSTAMP:20260425T144842
CREATED:20210809T080234Z
LAST-MODIFIED:20210930T104759Z
UID:740-1634238000-1634241600@www.beethovenhaus-baden.at
SUMMARY:"Der frühe und späte Beethoven" - Klavierkonzert\, gespielt und moderiert von MICHAEL CAPEK
DESCRIPTION:Michael Capek spielt und moderiert Beethoven – „Der frühe und späte Beethoven“\nZwischen den Entstehungsjahren der beiden gespielten Werke\, der Klaviersonate Nr. 3 in C-Dur op. 2 Nr. 3 und den Sechs Bagatellen für Klavier\, op. 126\, liegen tatsächlich 28 Jahre der Lebens- und Schaffenszeit des Großmeisters Beethoven.\nWas hat sich verändert? Und welche Rolle spielte der fortschreitende Klavierbau dieser Zeit? Michael Capek spielt auf einem „originalen Zeitzeugen“\, dem Badener Beethoven-Hammerklavier\, und moderiert den Abend.\nEin Musikgenuss im familiären Ambiente der biedermeierlichen Räumlichkeiten des Beethovenhauses Baden! \nDer Badener Michael Capek ist ein weit über die Stadtgrenzen hinaus bekannter Musiker. Nach vielseitigen Studien und mehreren Wettbewerbspreisen konzertiert er vorwiegend auf dem Klavier und der Orgel. Seine Auftritte führen ihn ins In- und Ausland\, darunter etwa der Gläserne Saal des Wiener Musikvereins\, der Grazer Stefaniesaal\, das ORF-Radiokulturhaus und natürlich das Beethovenhaus Baden. Neben dem Konzertieren ist er auch als Organist in mehreren Kirchen Badens und Wiens tätig. In Baden gründete er 2011 den Jugenddamenchor „Voix Célestes“ und den Musikzyklus „Junge Musikfreunde Baden“. \nTickets: Erwachsene: € 25\,- / Ermässigt (Schüler\, Studenten): € 12\,-\nInformationen und Tickets: im Beethovenhaus Baden\, Rathausgasse 10\, 2500 Baden (Di-So und Feiertage: 10.00 – 18.00 Uhr) / +43 2252 86800-630 / tickets@beethovenhaus-baden.at
URL:https://www.beethovenhaus-baden.at/event/der-fruhe-und-spate-beethoven-klavierkonzert-gespielt-und-moderiert-von-michael-capek/
LOCATION:Beethovenhaus Baden\, Rathausgasse 10\, Baden\, 2500
ATTACH;FMTTYPE=image/jpeg:https://www.beethovenhaus-baden.at/wp-content/uploads/2021/08/Foto.jpg
END:VEVENT
BEGIN:VEVENT
DTSTART;TZID=Europe/Vienna:20211029T190000
DTEND;TZID=Europe/Vienna:20211029T203000
DTSTAMP:20260425T144842
CREATED:20201104T215506Z
LAST-MODIFIED:20211028T104451Z
UID:198-1635534000-1635539400@www.beethovenhaus-baden.at
SUMMARY:ZU BESUCH BEI BEETHOVEN - Christian Reiter\, Gerichtsmediziner bei Johannes Leopold Mayer
DESCRIPTION:In der Reihe ZU BESUCH BEI BEETHOVEN empfängt Johannes Leopold Mayer\, langjähriger Ö1 Redakteur\, Gäste aus der Welt der Musik und Wissenschaft\, um mit ihnen über Ludwig van Beethoven zu plaudern. Dabei werden die Gäste\, ob mit Stimme oder Instrument\, das eine oder andere Musikbeispiel zum Besten geben. \nHeutiger Gast: Univ.Prof. Dr. CHRISTIAN REITER\, Gerichtsmediziner\nWer sich – wenn auch nur marginal – mit dem Leben und Schaffen Ludwig van Beethovens auseinandersetzt\, kann nicht unbeeindruckt von der bewundernswerten Konfliktbewältigung zwischen zunehmendem Verlust der Hörkraft und der ungeachtet fortbestehenden Schaffenskraft des Künstlers bleiben. In dem 1987 erschienenen Buch „Die Krankheiten Ludwig van Beethovens“ wurde das Wissen über seine Krankengeschichte umfassend dargelegt. Trotzdem\, Spekulationen und Mutmaßungen über Beethovens Krankheiten und seinen Tod sind nie zum Stillstand gekommen. Darüber und über alles\, was mit modernster forensisch-toxikologischer Analytik geklärt werden konnte\, spricht der Gerichtsmediziner Christian Reiter mit Johannes Leopold Mayer. \nBeginn 19.00 Uhr / Einlass ab 18.40 Uhr\nErwachsene: € 19\,-\nSchüler\, Studenten: € 11\,-\nReservierung erforderlich:+43 2252 86800-630 / willkommen@beethovenhaus-baden.at\nFixe Platzzuteilung!\n \nKommende Gäste\nTermin folgt demnächst:\n28. Jänner 2022: Gert Hecher\, Restaurator historischer Klaviere und Pianist\n25. Februar 2022: Carola Krebs\, Cellistin\n25. März 2022: Wolfgang Capek\, Organist und Universitätsdozent\, Universität für Musik und darstellende Kunst \nGäste vergangener Abende:\nBirgit Lodes: Universitätsprofessorin für Historische Musikwissenschaft\, Universität Wien.\nBirgit Lodes ist in vielen Bereichen der Musikgeschichte Zuhause. Vom Mittelalter bis zur Romantik reicht ihr Forschungsschwerpunkt\, entsprechend gefragt ist sie bei internationalen Tagungen\, besonders im heurigen Beethovenjahr\, da es ihr der „Wiener Klassiker“ besonders angetan hat. \nVahid Khadem-Missagh: Stv. 1. Konzertmeister beim Tonkünstler Orchester Niederösterreich und seit 2016 künstlerischer Leiter des Festivals Allegro Vivo und der Academia Allegro Vivo. \nDoris und Karin Adam: Die beiden Musikerinnen und Schwestern Doris (Klavier) und Karin Adam (Geige) musizieren seit 1985 auch als Duo. Acht Jahre lang leiteten sie gemeinsam den Kottingbrunner Zyklus „Konzerte hinter dem Schloss“. \nPeter Meissner: Der studierte Maschinenbauer hat sich als Buchautor\, Liedermacher und Kabarettist einen Namen gemacht. Viele Jahre war Peter Meissner als Moderator und Redakteur beim ORF-Landesstudio Niederösterreich tätig und präsentierte u.a. die Sendungen „Melodie und Nostalgie“\, „Klassik am Abend“ und „Swingtime“. \nNorbert Pfafflmeyer: Neurologe\, Dirigent\, Pianist – wie vielseitig! Seit 2007 leitet Norbert Pfafflmeyer das Festival „Tritonus“ im Congress Casino Baden und ist ständiger Gastdirigent der Brünner Philharmoniker. Als Pianist widmet er sich vornehmlich der Kammermusik und Liedbegleitung\, so den Schubert-Liederzyklen mit Wolfgang Bankl. \nMartin Först: stellvertretender Solocellist der Tonkünstler Niederösterreich \nEva Teimel: Romanistin\, Hornistin und ORF-Ö1 Musikredakteurin \n 
URL:https://www.beethovenhaus-baden.at/event/zu-besuch-bei-ludwig-van-christian-reiter/
ATTACH;FMTTYPE=image/png:https://www.beethovenhaus-baden.at/wp-content/uploads/2020/11/Reiter-Christian.png
END:VEVENT
END:VCALENDAR