BEGIN:VCALENDAR
VERSION:2.0
PRODID:-//Beethovenhaus Baden - ECPv6.15.20//NONSGML v1.0//EN
CALSCALE:GREGORIAN
METHOD:PUBLISH
X-ORIGINAL-URL:https://www.beethovenhaus-baden.at
X-WR-CALDESC:Veranstaltungen für Beethovenhaus Baden
REFRESH-INTERVAL;VALUE=DURATION:PT1H
X-Robots-Tag:noindex
X-PUBLISHED-TTL:PT1H
BEGIN:VTIMEZONE
TZID:Europe/Vienna
BEGIN:DAYLIGHT
TZOFFSETFROM:+0100
TZOFFSETTO:+0200
TZNAME:CEST
DTSTART:20200329T010000
END:DAYLIGHT
BEGIN:STANDARD
TZOFFSETFROM:+0200
TZOFFSETTO:+0100
TZNAME:CET
DTSTART:20201025T010000
END:STANDARD
BEGIN:DAYLIGHT
TZOFFSETFROM:+0100
TZOFFSETTO:+0200
TZNAME:CEST
DTSTART:20210328T010000
END:DAYLIGHT
BEGIN:STANDARD
TZOFFSETFROM:+0200
TZOFFSETTO:+0100
TZNAME:CET
DTSTART:20211031T010000
END:STANDARD
BEGIN:DAYLIGHT
TZOFFSETFROM:+0100
TZOFFSETTO:+0200
TZNAME:CEST
DTSTART:20220327T010000
END:DAYLIGHT
BEGIN:STANDARD
TZOFFSETFROM:+0200
TZOFFSETTO:+0100
TZNAME:CET
DTSTART:20221030T010000
END:STANDARD
END:VTIMEZONE
BEGIN:VEVENT
DTSTART;TZID=Europe/Vienna:20210924T190000
DTEND;TZID=Europe/Vienna:20210924T203000
DTSTAMP:20260425T163051
CREATED:20201104T215706Z
LAST-MODIFIED:20210915T075857Z
UID:202-1632510000-1632515400@www.beethovenhaus-baden.at
SUMMARY:ZU BESUCH BEI BEETHOVEN - Beate A. Kraus zu Gast bei Johannes Leopold Mayer
DESCRIPTION:In der Reihe ZU BESUCH BEI BEETHOVEN empfängt Johannes Leopold Mayer\, langjähriger Ö1 Redakteur\, Gäste aus der Welt der Musik und Wissenschaft\, um mit ihnen über Ludwig van Beethoven zu plaudern. Dabei werden die Gäste\, ob mit Stimme oder Instrument\, das eine oder andere Musikbeispiel zum Besten geben.\nHeutiger Gast: BEATE A. KRAUS\, Editorin der Neuausgabe der Neunten Symphonie\, Beethoven-Haus Bonn \nDr. Beate A. Kraus\, Musikwissenschaftlerin und Romanistin\, ist eine bekannte Beethoven-Kennerin und als wissenschaftliche Mitarbeiterin im Archiv des Beethoven-Hauses Bonn sehr renommiert. Mit Beethovens Geburtsort ist sie sehr verbunden\, sie ist auch mit der Arbeitsweise des Komponisten bestens vertraut. Ihre Publikationsliste ist lang\, erst 2020 ist von ihr im G.Henle Verlag die Neuausgabe der Neunten Symphonie erschienen. Beate Kraus weiß einiges darüber zu erzählen\, wie Beethoven manches ganz anders gemeint hat als wir es heute gewöhnt sind. Und Johannes Leopold Mayer weiß\, die richtigen Fragen zu stellen! \nBeginn 19.00 Uhr / Einlass ab 18.40 Uhr\nErwachsene: € 19\,-\nSchüler\, Studenten: € 11\,-\nReservierung erforderlich:+43 2252 86800-630 / willkommen@beethovenhaus-baden.at\nFixe Platzzuteilung! \nKommende Gäste\n29. Oktober 2021: Christian Reiter\, Gerichtsmediziner\, Universität Wien\n26. November 2021: Wolfgang Capek\, Organist und Universitätsdozent\, Universität für Musik und darstellende Kunst\n28. Jänner 2022: Gert Hecher\, Restaurator historischer Klaviere und Pianist\n25. Februar 2022: Carola Krebs\, Cellistin \n  \nGäste vergangener Abende:\nBirgit Lodes: Universitätsprofessorin für Historische Musikwissenschaft\, Universität Wien.\nBirgit Lodes ist in vielen Bereichen der Musikgeschichte Zuhause. Vom Mittelalter bis zur Romantik reicht ihr Forschungsschwerpunkt\, entsprechend gefragt ist sie bei internationalen Tagungen\, besonders im heurigen Beethovenjahr\, da es ihr der „Wiener Klassiker“ besonders angetan hat. \nVahid Khadem-Missagh: Stv. 1. Konzertmeister beim Tonkünstler Orchester Niederösterreich und seit 2016 künstlerischer Leiter des Festivals Allegro Vivo und der Academia Allegro Vivo. \nDoris und Karin Adam: Die beiden Musikerinnen und Schwestern Doris (Klavier) und Karin Adam (Geige) musizieren seit 1985 auch als Duo. Acht Jahre lang leiteten sie gemeinsam den Kottingbrunner Zyklus „Konzerte hinter dem Schloss“. \nPeter Meissner: Der studierte Maschinenbauer hat sich als Buchautor\, Liedermacher und Kabarettist einen Namen gemacht. Viele Jahre war Peter Meissner als Moderator und Redakteur beim ORF-Landesstudio Niederösterreich tätig und präsentierte u.a. die Sendungen „Melodie und Nostalgie“\, „Klassik am Abend“ und „Swingtime“. \nNorbert Pfafflmeyer: Neurologe\, Dirigent\, Pianist – wie vielseitig! Seit 2007 leitet Norbert Pfafflmeyer das Festival „Tritonus“ im Congress Casino Baden und ist ständiger Gastdirigent der Brünner Philharmoniker. Als Pianist widmet er sich vornehmlich der Kammermusik und Liedbegleitung\, so den Schubert-Liederzyklen mit Wolfgang Bankl. \nMartin Först: stellvertretender Solocellist der Tonkünstler Niederösterreich \nEva Teimel: Romanistin\, Hornistin und ORF-Ö1 Musikredakteurin \n  \n 
URL:https://www.beethovenhaus-baden.at/event/zu-besuch-bei-ludwig-van-carola-krebs/
ATTACH;FMTTYPE=image/jpeg:https://www.beethovenhaus-baden.at/wp-content/uploads/2020/11/Foto-Dr.-Kraus.jpg
END:VEVENT
BEGIN:VEVENT
DTSTART;TZID=Europe/Vienna:20210926T110000
DTEND;TZID=Europe/Vienna:20210926T121500
DTSTAMP:20260425T163051
CREATED:20210720T080946Z
LAST-MODIFIED:20210720T080946Z
UID:705-1632654000-1632658500@www.beethovenhaus-baden.at
SUMMARY:TAG DES DENKMALS 2021 - Führung "Gelungene Revitalisierung historischer Bausubstanz"
DESCRIPTION:Für die Führung (Eintritt und Führung frei) ist eine Anmeldung erforderlich: 02252 86800-580 oder museum@baden.gv.at\nBeginn: 11.00 Uhr\nDauer: 75 Minuten \nGelungene Revitalisierung historischer Bausubstanz\nDas Haus mit mittelalterlichen Wurzeln in der Rathausgasse 10\, in dem Beethoven von 1821 bis 1823 seine Sommer verbrachte\, hat eine sehr bewegte Geschichte und viele Zu- und Umbauten hinter sich. Zu Beethovens Zeiten war es eine Fremdenpension im Eigentum eines Kupferschmieds\, später befand sich über lange Zeit eine Bäckerei darin. \nNach der gelungenen Revitalisierung wird seit 2014 nicht nur das von Beethoven gemietete Apartment im ersten Stock\, sondern das ganze Haus als Museum bespielt. Stadtrat Hans Hornyik berichtet über Highlights der Sanierung\, wie wiederentdeckte und freigelegte farbige Wände.
URL:https://www.beethovenhaus-baden.at/event/tag-des-denkmals-2021-fuhrung-gelungene-revitalisierung-historischer-bausubstanz/
ATTACH;FMTTYPE=image/jpeg:https://www.beethovenhaus-baden.at/wp-content/uploads/2021/07/Tag-des-Denkmals.jpg
END:VEVENT
END:VCALENDAR