BEGIN:VCALENDAR
VERSION:2.0
PRODID:-//Beethovenhaus Baden - ECPv6.15.20//NONSGML v1.0//EN
CALSCALE:GREGORIAN
METHOD:PUBLISH
X-ORIGINAL-URL:https://www.beethovenhaus-baden.at
X-WR-CALDESC:Veranstaltungen für Beethovenhaus Baden
REFRESH-INTERVAL;VALUE=DURATION:PT1H
X-Robots-Tag:noindex
X-PUBLISHED-TTL:PT1H
BEGIN:VTIMEZONE
TZID:Europe/Vienna
BEGIN:DAYLIGHT
TZOFFSETFROM:+0100
TZOFFSETTO:+0200
TZNAME:CEST
DTSTART:20250330T010000
END:DAYLIGHT
BEGIN:STANDARD
TZOFFSETFROM:+0200
TZOFFSETTO:+0100
TZNAME:CET
DTSTART:20251026T010000
END:STANDARD
BEGIN:DAYLIGHT
TZOFFSETFROM:+0100
TZOFFSETTO:+0200
TZNAME:CEST
DTSTART:20260329T010000
END:DAYLIGHT
BEGIN:STANDARD
TZOFFSETFROM:+0200
TZOFFSETTO:+0100
TZNAME:CET
DTSTART:20261025T010000
END:STANDARD
BEGIN:DAYLIGHT
TZOFFSETFROM:+0100
TZOFFSETTO:+0200
TZNAME:CEST
DTSTART:20270328T010000
END:DAYLIGHT
BEGIN:STANDARD
TZOFFSETFROM:+0200
TZOFFSETTO:+0100
TZNAME:CET
DTSTART:20271031T010000
END:STANDARD
END:VTIMEZONE
BEGIN:VEVENT
DTSTART;TZID=Europe/Vienna:20260416T190000
DTEND;TZID=Europe/Vienna:20260416T200000
DTSTAMP:20260424T154022
CREATED:20250925T074905Z
LAST-MODIFIED:20250925T090727Z
UID:4021-1776366000-1776369600@www.beethovenhaus-baden.at
SUMMARY:Beethoven\, Hummel und Mozart - Kammermusik mit Iris Ballot (Violine) und Clara Sophia Murnig (Klavier)
DESCRIPTION:Programm\nJ.N. Hummel: Rondo brilliant für Violine und Klavier op. 126 16’\nW.A. Mozart: A-Dur Sonate für Violine und Klavier  KV 526  26’\nL.v. Beethoven: A-Dur Sonate für Violine und Klavier op. 12/2  18′ \nBeide Musikerinnen haben an der Universität für Musik und darstellende Kunst Wien studiert und sind im In- und Ausland spielend und lehrend tätig. Sie waren bereits zwei Mal Gäste im Beethovenhaus Baden und wurden vom Publikum begeistert aufgenommen. \nTickets: Erwachsene: € 25\,- / Ermäßigt (Schüler u. Schülerinnen\, Studierende): € 12\,-\nReservierung erbeten: 02252/86800-630 oder tickets@beethovenhaus-baden.at
URL:https://www.beethovenhaus-baden.at/event/beethoven-hummel-und-mozart-kammermusik-mit-iris-ballot-violine-und-clara-murnig-klavier/
ATTACH;FMTTYPE=image/jpeg:https://www.beethovenhaus-baden.at/wp-content/uploads/2023/11/20220427_191455-scaled.jpg
END:VEVENT
END:VCALENDAR