BEGIN:VCALENDAR
VERSION:2.0
PRODID:-//Beethovenhaus Baden - ECPv6.15.20//NONSGML v1.0//EN
CALSCALE:GREGORIAN
METHOD:PUBLISH
X-WR-CALNAME:Beethovenhaus Baden
X-ORIGINAL-URL:https://www.beethovenhaus-baden.at
X-WR-CALDESC:Veranstaltungen für Beethovenhaus Baden
REFRESH-INTERVAL;VALUE=DURATION:PT1H
X-Robots-Tag:noindex
X-PUBLISHED-TTL:PT1H
BEGIN:VTIMEZONE
TZID:Europe/Vienna
BEGIN:DAYLIGHT
TZOFFSETFROM:+0100
TZOFFSETTO:+0200
TZNAME:CEST
DTSTART:20250330T010000
END:DAYLIGHT
BEGIN:STANDARD
TZOFFSETFROM:+0200
TZOFFSETTO:+0100
TZNAME:CET
DTSTART:20251026T010000
END:STANDARD
BEGIN:DAYLIGHT
TZOFFSETFROM:+0100
TZOFFSETTO:+0200
TZNAME:CEST
DTSTART:20260329T010000
END:DAYLIGHT
BEGIN:STANDARD
TZOFFSETFROM:+0200
TZOFFSETTO:+0100
TZNAME:CET
DTSTART:20261025T010000
END:STANDARD
BEGIN:DAYLIGHT
TZOFFSETFROM:+0100
TZOFFSETTO:+0200
TZNAME:CEST
DTSTART:20270328T010000
END:DAYLIGHT
BEGIN:STANDARD
TZOFFSETFROM:+0200
TZOFFSETTO:+0100
TZNAME:CET
DTSTART:20271031T010000
END:STANDARD
END:VTIMEZONE
BEGIN:VEVENT
DTSTART;TZID=Europe/Vienna:20260304T090000
DTEND;TZID=Europe/Vienna:20260304T130000
DTSTAMP:20260424T173201
CREATED:20231204T102902Z
LAST-MODIFIED:20251209T112845Z
UID:2050-1772614800-1772629200@www.beethovenhaus-baden.at
SUMMARY:Zum Aktionstag SCHULE SCHAUT MUSEUM am 4. März - Interaktives Programm "Hört Beethoven?!" für alle Schulstufen
DESCRIPTION:Interaktive Führung durch das Beethovenhaus Baden im Zuge von SCHULE SCHAUT MUSEUM – Programm und Eintritt frei!\nWar Beethoven wirklich fast taub? Wieso kam Beethoven so gern und oft nach Baden? Wie klingt ein Hammerflügel? Viele Fragen rund um Beethoven werden – natürlich altersgemäß – in dieser interaktiven Spurensuche behandelt. Einen Einblick in das Leben des großen Komponisten Ludwig van Beethoven bekommen alle! \nBeginnzeiten: 9.00 und 11.00 Uhr\nDauer: ca. 90 Minuten\nTeilnahme-Begrenzung: 1 Klasse pro Führung\nAnmeldung: klassenweise Anmeldung erforderlich (bitte um Anmeldung von Schulstufe\, Schulform\, Kontaktperson für Rückfragen): 02252 86800/580 oder museum@baden.gv.at\nEintritt und Führung frei!
URL:https://www.beethovenhaus-baden.at/event/zum-aktionstag-schule-schaut-museum-interaktives-programm-hoert-beethoven-fuer-alle-schulstufen/
ATTACH;FMTTYPE=image/jpeg:https://www.beethovenhaus-baden.at/wp-content/uploads/2020/11/IMG_5813-scaled.jpg
END:VEVENT
END:VCALENDAR