BEGIN:VCALENDAR
VERSION:2.0
PRODID:-//Beethovenhaus Baden - ECPv6.15.20//NONSGML v1.0//EN
CALSCALE:GREGORIAN
METHOD:PUBLISH
X-ORIGINAL-URL:https://www.beethovenhaus-baden.at
X-WR-CALDESC:Veranstaltungen für Beethovenhaus Baden
REFRESH-INTERVAL;VALUE=DURATION:PT1H
X-Robots-Tag:noindex
X-PUBLISHED-TTL:PT1H
BEGIN:VTIMEZONE
TZID:Europe/Vienna
BEGIN:DAYLIGHT
TZOFFSETFROM:+0100
TZOFFSETTO:+0200
TZNAME:CEST
DTSTART:20250330T010000
END:DAYLIGHT
BEGIN:STANDARD
TZOFFSETFROM:+0200
TZOFFSETTO:+0100
TZNAME:CET
DTSTART:20251026T010000
END:STANDARD
BEGIN:DAYLIGHT
TZOFFSETFROM:+0100
TZOFFSETTO:+0200
TZNAME:CEST
DTSTART:20260329T010000
END:DAYLIGHT
BEGIN:STANDARD
TZOFFSETFROM:+0200
TZOFFSETTO:+0100
TZNAME:CET
DTSTART:20261025T010000
END:STANDARD
BEGIN:DAYLIGHT
TZOFFSETFROM:+0100
TZOFFSETTO:+0200
TZNAME:CEST
DTSTART:20270328T010000
END:DAYLIGHT
BEGIN:STANDARD
TZOFFSETFROM:+0200
TZOFFSETTO:+0100
TZNAME:CET
DTSTART:20271031T010000
END:STANDARD
END:VTIMEZONE
BEGIN:VEVENT
DTSTART;TZID=Europe/Vienna:20260122T190000
DTEND;TZID=Europe/Vienna:20260122T200000
DTSTAMP:20260424T201747
CREATED:20250925T073857Z
LAST-MODIFIED:20250925T073857Z
UID:4017-1769108400-1769112000@www.beethovenhaus-baden.at
SUMMARY:Beethoven und Schubert - Konzert am Hammerklavier mit Bernhard Pötsch
DESCRIPTION:Programm\nBeethoven: Andante favori\, WoO 57\nSchubert: Sonate a-Moll\, D. 845\nBeethoven: Sonate C-Dur\, op. 53 („Waldstein-Sonate“) \nBernhard Pötsch\nAls außerordentlicher Universitätsprofessor lehrt Bernhard Pötsch seit vielen Jahren Klavier und Hammerklavier an der mdw (Universität für Musik und darstellende Kunst). Als Pianist ist er sowohl solistisch als auch als Kammermusiker und Liedbegleiter tätig. In jüngerer Zeit war es Elisabeth Leonskaja\, von deren Können er profitieren durfte. \nAm liebsten spielt Bernhard Pötsch an Orten\, an denen sich ein persönlicher Kontakt zum Publikum herstellen lässt. Das gelingt im intimen Ambiente des Beethovenhauses ganz besonders gut\, Pötsch spielt und kommt moderierend mit seinem Publikum ins Gespräch. \nEintritt: Erwachsene: € 25\,- / Ermäßigt (Schüler:innen\, Studierende): € 12\,-\nTickets erhältlich im Beethovenhaus Baden\, Rathausgasse 10\, 2500 Baden\nReservierung: 02252/86800-630 oder tickets@beethovenhaus-baden.at / www.beethovenhaus-baden.at
URL:https://www.beethovenhaus-baden.at/event/beethoven-und-schubert-konzert-am-hammerklavier-mit-bernhard-poetsch-2/
ATTACH;FMTTYPE=image/jpeg:https://www.beethovenhaus-baden.at/wp-content/uploads/2025/09/Pressefoto-Bernhard-Poetsch-©Reinhard-Winkler-scaled.jpg
END:VEVENT
END:VCALENDAR