BEGIN:VCALENDAR
VERSION:2.0
PRODID:-//Beethovenhaus Baden - ECPv6.15.20//NONSGML v1.0//EN
CALSCALE:GREGORIAN
METHOD:PUBLISH
X-ORIGINAL-URL:https://www.beethovenhaus-baden.at
X-WR-CALDESC:Veranstaltungen für Beethovenhaus Baden
REFRESH-INTERVAL;VALUE=DURATION:PT1H
X-Robots-Tag:noindex
X-PUBLISHED-TTL:PT1H
BEGIN:VTIMEZONE
TZID:Europe/Vienna
BEGIN:DAYLIGHT
TZOFFSETFROM:+0100
TZOFFSETTO:+0200
TZNAME:CEST
DTSTART:20240331T010000
END:DAYLIGHT
BEGIN:STANDARD
TZOFFSETFROM:+0200
TZOFFSETTO:+0100
TZNAME:CET
DTSTART:20241027T010000
END:STANDARD
BEGIN:DAYLIGHT
TZOFFSETFROM:+0100
TZOFFSETTO:+0200
TZNAME:CEST
DTSTART:20250330T010000
END:DAYLIGHT
BEGIN:STANDARD
TZOFFSETFROM:+0200
TZOFFSETTO:+0100
TZNAME:CET
DTSTART:20251026T010000
END:STANDARD
BEGIN:DAYLIGHT
TZOFFSETFROM:+0100
TZOFFSETTO:+0200
TZNAME:CEST
DTSTART:20260329T010000
END:DAYLIGHT
BEGIN:STANDARD
TZOFFSETFROM:+0200
TZOFFSETTO:+0100
TZNAME:CET
DTSTART:20261025T010000
END:STANDARD
END:VTIMEZONE
BEGIN:VEVENT
DTSTART;TZID=Europe/Vienna:20251204T190000
DTEND;TZID=Europe/Vienna:20251204T200000
DTSTAMP:20260424T214028
CREATED:20250527T113035Z
LAST-MODIFIED:20251021T080513Z
UID:3926-1764874800-1764878400@www.beethovenhaus-baden.at
SUMMARY:Neues über Beethovens Schwerhörigkeit - Vortrag von Prof. Dr. Christian Reiter
DESCRIPTION:Wie war es Beethoven möglich\, trotz zunehmenden Hörverlustes seine Schaffenskraft bis zum Ende zu bewahren? Steht seine Schwerhörigkeit in Zusammenhang mit einer Bleivergiftung? Oder hat er zu viel Wein getrunken? Mit diesen Fragen hat sich der österreichische Gerichtsmediziner Univ.Prof. Dr. Christian Reiter intensiv befasst und berichtet über den neuesten Forschungsstand. \nDer Vortrag findet bei Interesse mit Gebärdensprachdolmetschung (ÖGS) statt. Diesbezügliche Anmeldung bitte bis 28. November! \nTicket € 12\,- (Schüler:innen\, Studierende: € 8\,-)\nInformationen und Tickets: im Beethovenhaus Baden\, Rathausgasse 10\, 2500 Baden (Di-So und Feiertage: 10 – 18 Uhr) / +43 2252 86800-630 / tickets@beethovenhaus-baden.at / www.beethovenhaus-baden.at
URL:https://www.beethovenhaus-baden.at/event/neues-ueber-beethovens-schwerhoerigkeit-vortrag-von-prof-dr-christian-reiter/
ATTACH;FMTTYPE=image/jpeg:https://www.beethovenhaus-baden.at/wp-content/uploads/2025/05/Foto-Web.jpg
END:VEVENT
END:VCALENDAR