BEGIN:VCALENDAR
VERSION:2.0
PRODID:-//Beethovenhaus Baden - ECPv6.15.20//NONSGML v1.0//EN
CALSCALE:GREGORIAN
METHOD:PUBLISH
X-WR-CALNAME:Beethovenhaus Baden
X-ORIGINAL-URL:https://www.beethovenhaus-baden.at
X-WR-CALDESC:Veranstaltungen für Beethovenhaus Baden
REFRESH-INTERVAL;VALUE=DURATION:PT1H
X-Robots-Tag:noindex
X-PUBLISHED-TTL:PT1H
BEGIN:VTIMEZONE
TZID:Europe/Vienna
BEGIN:DAYLIGHT
TZOFFSETFROM:+0100
TZOFFSETTO:+0200
TZNAME:CEST
DTSTART:20240331T010000
END:DAYLIGHT
BEGIN:STANDARD
TZOFFSETFROM:+0200
TZOFFSETTO:+0100
TZNAME:CET
DTSTART:20241027T010000
END:STANDARD
BEGIN:DAYLIGHT
TZOFFSETFROM:+0100
TZOFFSETTO:+0200
TZNAME:CEST
DTSTART:20250330T010000
END:DAYLIGHT
BEGIN:STANDARD
TZOFFSETFROM:+0200
TZOFFSETTO:+0100
TZNAME:CET
DTSTART:20251026T010000
END:STANDARD
BEGIN:DAYLIGHT
TZOFFSETFROM:+0100
TZOFFSETTO:+0200
TZNAME:CEST
DTSTART:20260329T010000
END:DAYLIGHT
BEGIN:STANDARD
TZOFFSETFROM:+0200
TZOFFSETTO:+0100
TZNAME:CET
DTSTART:20261025T010000
END:STANDARD
END:VTIMEZONE
BEGIN:VEVENT
DTSTART;TZID=Europe/Vienna:20251120T190000
DTEND;TZID=Europe/Vienna:20251120T190000
DTSTAMP:20260424T231156
CREATED:20250116T110515Z
LAST-MODIFIED:20251112T095101Z
UID:3576-1763665200-1763665200@www.beethovenhaus-baden.at
SUMMARY:"Beethoven\, Lehrer und Verehrer" - Konzert mit dem Cuore Piano Trio
DESCRIPTION:Cuore Piano Trio\nZuzanna Budzyńska\, Violine\nJonathan Gerstner\, Cello\nSzymon Ogryzek\, Hammerklavier \nProgramm:\nHaydn – Klaviertrio in Es-Dur Nr. 45 Hob. XV:29\nPoco allegretto\nAndantino ed innocentemente\nPresto assai. In the German style (Allemande) \nSchubert – Sonatensatz in B-Dur D. 28 \nvan Beethoven – Klaviertrio in c-Moll Op. 1 Nr. 3\nAllegro con brio\nAndante cantabile\nMenuetto: Quasi Allegro\nPrestissimo \nTickets\nErwachsene: € 25\,- / Ermäßigt (Schüler u. Schülerinnen\, Studierende): € 12\,-\nInformationen und Tickets unter +43 2252 86800-630 / tickets@beethovenhaus-baden.at oder im Beethovenhaus Baden (DI–SO und Feiertage 10–18 Uhr)
URL:https://www.beethovenhaus-baden.at/event/beethoven-lehrer-und-verehrer-konzert-mit-dem-cuore-piano-trio/
LOCATION:Beethovenhaus Baden\, Rathausgasse 10\, Baden\, 2500
ATTACH;FMTTYPE=image/jpeg:https://www.beethovenhaus-baden.at/wp-content/uploads/2025/01/Foto-Webseite-4.jpg
END:VEVENT
END:VCALENDAR