BEGIN:VCALENDAR
VERSION:2.0
PRODID:-//Beethovenhaus Baden - ECPv6.15.20//NONSGML v1.0//EN
CALSCALE:GREGORIAN
METHOD:PUBLISH
X-WR-CALNAME:Beethovenhaus Baden
X-ORIGINAL-URL:https://www.beethovenhaus-baden.at
X-WR-CALDESC:Veranstaltungen für Beethovenhaus Baden
REFRESH-INTERVAL;VALUE=DURATION:PT1H
X-Robots-Tag:noindex
X-PUBLISHED-TTL:PT1H
BEGIN:VTIMEZONE
TZID:Europe/Vienna
BEGIN:DAYLIGHT
TZOFFSETFROM:+0100
TZOFFSETTO:+0200
TZNAME:CEST
DTSTART:20240331T010000
END:DAYLIGHT
BEGIN:STANDARD
TZOFFSETFROM:+0200
TZOFFSETTO:+0100
TZNAME:CET
DTSTART:20241027T010000
END:STANDARD
BEGIN:DAYLIGHT
TZOFFSETFROM:+0100
TZOFFSETTO:+0200
TZNAME:CEST
DTSTART:20250330T010000
END:DAYLIGHT
BEGIN:STANDARD
TZOFFSETFROM:+0200
TZOFFSETTO:+0100
TZNAME:CET
DTSTART:20251026T010000
END:STANDARD
BEGIN:DAYLIGHT
TZOFFSETFROM:+0100
TZOFFSETTO:+0200
TZNAME:CEST
DTSTART:20260329T010000
END:DAYLIGHT
BEGIN:STANDARD
TZOFFSETFROM:+0200
TZOFFSETTO:+0100
TZNAME:CET
DTSTART:20261025T010000
END:STANDARD
END:VTIMEZONE
BEGIN:VEVENT
DTSTART;TZID=Europe/Vienna:20250330T123000
DTEND;TZID=Europe/Vienna:20250330T150000
DTSTAMP:20260425T143702
CREATED:20250205T101831Z
LAST-MODIFIED:20250324T090637Z
UID:3624-1743337800-1743346800@www.beethovenhaus-baden.at
SUMMARY:Brunch in a-Moll - Kaffee und Kultur
DESCRIPTION:Genießen Sie einen einzigartigen Tag voller Kulinarik und Kultur!\nUm 12.30 Uhr erwartet Sie ein liebevoll gedeckter Tisch. Frisches Gebäck\, feine Bratwürste\, serviert mit gebratenen Tomaten\, Champignons\, Speck\, Jungzwiebeln und Spiegelei – dieses Brunch-Erlebnis à la Gasser wird Sie begeistern! Nach dem Genuss werden Sie ins Beethovenhaus begleitet\, wo um 14 Uhr die Führung beginnt. Tauchen Sie ein in das Leben des Musikgenies und begegnen Sie dem Komponisten auf völlig neue\, überraschende Weise.\nKunst und Kultur trifft Genuss – das perfekte Programm\, um gemeinsam besondere Momente zu erleben. \nHier geht es zur Reservierung! \nPreis pro Person (inkl. Eintritt mit Führung um 14 Uhr): € 21\,- (exklusive Getränke)\nWeitere Termine: 13. April\, 11. Mai 2025 \nBeethovens Essgewohnheiten?\nZu seinen Essgewohnheiten gibt es keine direkten Belege. Es ist jedoch bekannt\, dass er nicht selbst kochte\, sondern auswärts speiste oder seine Haushälterin mit der Zubereitung seiner Mahlzeiten beauftragte. Diese musste penibel Buch über alle Einkäufe und Ausgaben führen.\nZu seinen Lieblingsgerichten zählte eine herzhafte Brotsuppe mit Zwiebeln\, die er mit Eiern verfeinerte. Offensichtlich bevorzugte er gehaltvolle Speisen.\nAuch Kaffee – neben Wein – war eines der Getränke\, die er sich gerne gönnte. Zu Beethovens Zeit galt Kaffee als Luxusprodukt. Dies könnte erklären\, warum er ein besonderes Ritual pflegte: Für die Zubereitung seines Kaffees zählte er stets genau 60 Bohnen ab.
URL:https://www.beethovenhaus-baden.at/event/brunch-in-a-moll-kaffee-und-kultur-4/
LOCATION:Beethovenhaus Baden\, Rathausgasse 10\, Baden\, 2500
ATTACH;FMTTYPE=image/jpeg:https://www.beethovenhaus-baden.at/wp-content/uploads/2025/02/Foto-Collage-brunch-a-Moll.jpg
END:VEVENT
END:VCALENDAR