BEGIN:VCALENDAR
VERSION:2.0
PRODID:-//Beethovenhaus Baden - ECPv6.15.20//NONSGML v1.0//EN
CALSCALE:GREGORIAN
METHOD:PUBLISH
X-ORIGINAL-URL:https://www.beethovenhaus-baden.at
X-WR-CALDESC:Veranstaltungen für Beethovenhaus Baden
REFRESH-INTERVAL;VALUE=DURATION:PT1H
X-Robots-Tag:noindex
X-PUBLISHED-TTL:PT1H
BEGIN:VTIMEZONE
TZID:Europe/Vienna
BEGIN:DAYLIGHT
TZOFFSETFROM:+0100
TZOFFSETTO:+0200
TZNAME:CEST
DTSTART:20220327T010000
END:DAYLIGHT
BEGIN:STANDARD
TZOFFSETFROM:+0200
TZOFFSETTO:+0100
TZNAME:CET
DTSTART:20221030T010000
END:STANDARD
BEGIN:DAYLIGHT
TZOFFSETFROM:+0100
TZOFFSETTO:+0200
TZNAME:CEST
DTSTART:20230326T010000
END:DAYLIGHT
BEGIN:STANDARD
TZOFFSETFROM:+0200
TZOFFSETTO:+0100
TZNAME:CET
DTSTART:20231029T010000
END:STANDARD
BEGIN:DAYLIGHT
TZOFFSETFROM:+0100
TZOFFSETTO:+0200
TZNAME:CEST
DTSTART:20240331T010000
END:DAYLIGHT
BEGIN:STANDARD
TZOFFSETFROM:+0200
TZOFFSETTO:+0100
TZNAME:CET
DTSTART:20241027T010000
END:STANDARD
END:VTIMEZONE
BEGIN:VEVENT
DTSTART;TZID=Europe/Vienna:20230618T110000
DTEND;TZID=Europe/Vienna:20230618T120000
DTSTAMP:20260424T202325
CREATED:20230502T084404Z
LAST-MODIFIED:20230502T093325Z
UID:1916-1687086000-1687089600@www.beethovenhaus-baden.at
SUMMARY:Beethoven - Ode an die Natur\, Themenführung mit Benjamin Ausserhuber
DESCRIPTION:BEETHOVEN – ODE AN DIE NATUR\, Themenführung \nBeethoven liebte die Natur. Die Gegend in und um Baden schätzte er besonders\, was seine wiederholten Aufenthalte in der Kurstadt zeigen. Seine täglichen Spaziergänge haben auch seine Werke nachhaltig beeinflusst. Entdecken Sie – u.a. durch Hörbeispiele – wie sich die Liebe zur Natur in seinem musikalischen Schaffen widerspiegelt.\nFührungsticket: € 3\,-\nAnmeldung empfohlen.
URL:https://www.beethovenhaus-baden.at/event/beethoven-ode-an-die-natur-themenfuehrung-mit-benjamin-ausserhuber/
ATTACH;FMTTYPE=image/jpeg:https://www.beethovenhaus-baden.at/wp-content/uploads/2023/05/Foto-Webpage.jpg
END:VEVENT
END:VCALENDAR