BEGIN:VCALENDAR
VERSION:2.0
PRODID:-//Beethovenhaus Baden - ECPv6.15.20//NONSGML v1.0//EN
CALSCALE:GREGORIAN
METHOD:PUBLISH
X-WR-CALNAME:Beethovenhaus Baden
X-ORIGINAL-URL:https://www.beethovenhaus-baden.at
X-WR-CALDESC:Veranstaltungen für Beethovenhaus Baden
REFRESH-INTERVAL;VALUE=DURATION:PT1H
X-Robots-Tag:noindex
X-PUBLISHED-TTL:PT1H
BEGIN:VTIMEZONE
TZID:Europe/Vienna
BEGIN:DAYLIGHT
TZOFFSETFROM:+0100
TZOFFSETTO:+0200
TZNAME:CEST
DTSTART:20220327T010000
END:DAYLIGHT
BEGIN:STANDARD
TZOFFSETFROM:+0200
TZOFFSETTO:+0100
TZNAME:CET
DTSTART:20221030T010000
END:STANDARD
BEGIN:DAYLIGHT
TZOFFSETFROM:+0100
TZOFFSETTO:+0200
TZNAME:CEST
DTSTART:20230326T010000
END:DAYLIGHT
BEGIN:STANDARD
TZOFFSETFROM:+0200
TZOFFSETTO:+0100
TZNAME:CET
DTSTART:20231029T010000
END:STANDARD
BEGIN:DAYLIGHT
TZOFFSETFROM:+0100
TZOFFSETTO:+0200
TZNAME:CEST
DTSTART:20240331T010000
END:DAYLIGHT
BEGIN:STANDARD
TZOFFSETFROM:+0200
TZOFFSETTO:+0100
TZNAME:CET
DTSTART:20241027T010000
END:STANDARD
END:VTIMEZONE
BEGIN:VEVENT
DTSTART;TZID=Europe/Vienna:20230518T140000
DTEND;TZID=Europe/Vienna:20230518T150000
DTSTAMP:20260424T184736
CREATED:20230502T103549Z
LAST-MODIFIED:20230502T103737Z
UID:1922-1684418400-1684422000@www.beethovenhaus-baden.at
SUMMARY:Museumsfrühling Niederösterreich - Familienführung "Beethovens nachhaltiges Erbe in Baden" (Führung frei\, Eintritt ermäßigt)
DESCRIPTION:Ludwig van Beethoven kurte regelmäßig in Baden und hinterließ wie kein anderer nachhaltig seine Spuren in der Stadt. Dies wird auf besondere Weise im Haus der Rathausgasse 10 erlebbar\, in dem der Künstler drei Sommer in Folge\, von 1821 bis 1823 gewohnt hat. Die biedermeierlichen Wohnräume mit originalen Wandmalereien geben einen Einblick in Beethovens Badener Leben und Umfeld. Die inspirierende Kraft\, die der Komponist während seiner Aufenthalte verspürte\, wird in dem modernen Museum für Besucher/innen erfahrbar und hörbar gemacht. \nUm Voranmeldung wird gebeten: 02252 86800-630 oder tickets@beethovenhaus-baden.at\nEintritt: Halbpreis\, Kinder und Schüler:innen (bis 18 Jahre): gratis\nFührung: frei
URL:https://www.beethovenhaus-baden.at/event/museumsfruehling-niederoesterreich-familienfuehrung-beethovens-nachhaltiges-erbe-in-baden-fuehrung-frei-eintritt-ermaessigt/
ATTACH;FMTTYPE=image/jpeg:https://www.beethovenhaus-baden.at/wp-content/uploads/2023/05/BH.jpg
END:VEVENT
END:VCALENDAR