BEGIN:VCALENDAR
VERSION:2.0
PRODID:-//Beethovenhaus Baden - ECPv6.15.20//NONSGML v1.0//EN
CALSCALE:GREGORIAN
METHOD:PUBLISH
X-WR-CALNAME:Beethovenhaus Baden
X-ORIGINAL-URL:https://www.beethovenhaus-baden.at
X-WR-CALDESC:Veranstaltungen für Beethovenhaus Baden
REFRESH-INTERVAL;VALUE=DURATION:PT1H
X-Robots-Tag:noindex
X-PUBLISHED-TTL:PT1H
BEGIN:VTIMEZONE
TZID:Europe/Vienna
BEGIN:DAYLIGHT
TZOFFSETFROM:+0100
TZOFFSETTO:+0200
TZNAME:CEST
DTSTART:20220327T010000
END:DAYLIGHT
BEGIN:STANDARD
TZOFFSETFROM:+0200
TZOFFSETTO:+0100
TZNAME:CET
DTSTART:20221030T010000
END:STANDARD
BEGIN:DAYLIGHT
TZOFFSETFROM:+0100
TZOFFSETTO:+0200
TZNAME:CEST
DTSTART:20230326T010000
END:DAYLIGHT
BEGIN:STANDARD
TZOFFSETFROM:+0200
TZOFFSETTO:+0100
TZNAME:CET
DTSTART:20231029T010000
END:STANDARD
BEGIN:DAYLIGHT
TZOFFSETFROM:+0100
TZOFFSETTO:+0200
TZNAME:CEST
DTSTART:20240331T010000
END:DAYLIGHT
BEGIN:STANDARD
TZOFFSETFROM:+0200
TZOFFSETTO:+0100
TZNAME:CET
DTSTART:20241027T010000
END:STANDARD
END:VTIMEZONE
BEGIN:VEVENT
DTSTART;TZID=Europe/Vienna:20230127T190000
DTEND;TZID=Europe/Vienna:20230127T200000
DTSTAMP:20260424T153900
CREATED:20211028T105021Z
LAST-MODIFIED:20230125T105136Z
UID:822-1674846000-1674849600@www.beethovenhaus-baden.at
SUMMARY:ZU BESUCH BEI BEETHOVEN - Carola Krebs\, Cellistin\, zu Gast bei Johannes Leopold Mayer - AUSVERKAUFT!!!!!
DESCRIPTION:In der Reihe ZU BESUCH BEI BEETHOVEN empfängt Johannes Leopold Mayer\, langjähriger Ö1 Redakteur\, Gäste aus der Welt der Musik und Wissenschaft\, um mit ihnen über Ludwig van Beethoven zu plaudern. Dabei werden die Gäste\, ob mit Stimme oder Instrument\, das eine oder andere Musikbeispiel zum Besten geben. \nHeutiger Gast: Carola Krebs\, Cellistin\n \nBeginn 19 Uhr / Einlass ab 18.40 Uhr\nErwachsene: € 19\,-\nSchüler und Schülerinnen\, Studierende: € 11\,-\nReservierung erforderlich:+43 2252 86800-630 / tickets@beethovenhaus-baden.at \n  \n 
URL:https://www.beethovenhaus-baden.at/event/zu-besuch-bei-beethoven-carola-krebs-cellistin-bei-johannes-leopold-mayer/
ATTACH;FMTTYPE=image/jpeg:https://www.beethovenhaus-baden.at/wp-content/uploads/2020/11/HP-scaled.jpg
END:VEVENT
END:VCALENDAR