BEGIN:VCALENDAR
VERSION:2.0
PRODID:-//Beethovenhaus Baden - ECPv6.15.20//NONSGML v1.0//EN
CALSCALE:GREGORIAN
METHOD:PUBLISH
X-WR-CALNAME:Beethovenhaus Baden
X-ORIGINAL-URL:https://www.beethovenhaus-baden.at
X-WR-CALDESC:Veranstaltungen für Beethovenhaus Baden
REFRESH-INTERVAL;VALUE=DURATION:PT1H
X-Robots-Tag:noindex
X-PUBLISHED-TTL:PT1H
BEGIN:VTIMEZONE
TZID:Europe/Vienna
BEGIN:DAYLIGHT
TZOFFSETFROM:+0100
TZOFFSETTO:+0200
TZNAME:CEST
DTSTART:20210328T010000
END:DAYLIGHT
BEGIN:STANDARD
TZOFFSETFROM:+0200
TZOFFSETTO:+0100
TZNAME:CET
DTSTART:20211031T010000
END:STANDARD
BEGIN:DAYLIGHT
TZOFFSETFROM:+0100
TZOFFSETTO:+0200
TZNAME:CEST
DTSTART:20220327T010000
END:DAYLIGHT
BEGIN:STANDARD
TZOFFSETFROM:+0200
TZOFFSETTO:+0100
TZNAME:CET
DTSTART:20221030T010000
END:STANDARD
BEGIN:DAYLIGHT
TZOFFSETFROM:+0100
TZOFFSETTO:+0200
TZNAME:CEST
DTSTART:20230326T010000
END:DAYLIGHT
BEGIN:STANDARD
TZOFFSETFROM:+0200
TZOFFSETTO:+0100
TZNAME:CET
DTSTART:20231029T010000
END:STANDARD
END:VTIMEZONE
BEGIN:VEVENT
DTSTART;TZID=Europe/Vienna:20221014T190000
DTEND;TZID=Europe/Vienna:20221014T200000
DTSTAMP:20260424T202125
CREATED:20220818T101614Z
LAST-MODIFIED:20220923T081143Z
UID:1110-1665774000-1665777600@www.beethovenhaus-baden.at
SUMMARY:ZU BESUCH BEI BEETHOVEN - Alfred Willander\, "der" Kenner der Stadt Baden\, zu Gast bei Johannes Leopold Mayer
DESCRIPTION:In der Reihe ZU BESUCH BEI BEETHOVEN empfängt Johannes Leopold Mayer\, langjähriger Ö1 Redakteur\, Gäste aus der Welt der Musik und Wissenschaft\, um mit ihnen über Ludwig van Beethoven zu plaudern. Dabei werden die Gäste\, ob mit Stimme oder Instrument\, das eine oder andere Musikbeispiel zum Besten geben. \nHeutiger Gast: Hofrat Dr. Alfred Willander\, Musikwissenschafter\nHofrat Dr. Alfred Willander ist einer der intimsten Kernner der Musikstadt Baden. Das Beethovenhaus Baden kennt er auch aus „amtlicher“ Sicht in all seinen äußeren und inneren Details und er weiß viele wahre und halbwahre Geschichten und Histörchen über Beethoven in der Badner Kur und beim hiesigen Wein.\n \nBeginn 19 Uhr / Einlass ab 18.40 Uhr\nErwachsene: € 19\,-\nSchüler\, Studenten: € 11\,-\nReservierung erforderlich:+43 2252 86800-630 / tickets@beethovenhaus-baden.at
URL:https://www.beethovenhaus-baden.at/event/zu-besuch-bei-beethoven-alfred-willander-zu-besuch-bei-johannes-leopold-mayer/
ATTACH;FMTTYPE=image/jpeg:https://www.beethovenhaus-baden.at/wp-content/uploads/2022/08/Willander.jpg
END:VEVENT
END:VCALENDAR