BEGIN:VCALENDAR
VERSION:2.0
PRODID:-//Beethovenhaus Baden - ECPv6.15.20//NONSGML v1.0//EN
CALSCALE:GREGORIAN
METHOD:PUBLISH
X-WR-CALNAME:Beethovenhaus Baden
X-ORIGINAL-URL:https://www.beethovenhaus-baden.at
X-WR-CALDESC:Veranstaltungen für Beethovenhaus Baden
REFRESH-INTERVAL;VALUE=DURATION:PT1H
X-Robots-Tag:noindex
X-PUBLISHED-TTL:PT1H
BEGIN:VTIMEZONE
TZID:Europe/Vienna
BEGIN:DAYLIGHT
TZOFFSETFROM:+0100
TZOFFSETTO:+0200
TZNAME:CEST
DTSTART:20210328T010000
END:DAYLIGHT
BEGIN:STANDARD
TZOFFSETFROM:+0200
TZOFFSETTO:+0100
TZNAME:CET
DTSTART:20211031T010000
END:STANDARD
BEGIN:DAYLIGHT
TZOFFSETFROM:+0100
TZOFFSETTO:+0200
TZNAME:CEST
DTSTART:20220327T010000
END:DAYLIGHT
BEGIN:STANDARD
TZOFFSETFROM:+0200
TZOFFSETTO:+0100
TZNAME:CET
DTSTART:20221030T010000
END:STANDARD
BEGIN:DAYLIGHT
TZOFFSETFROM:+0100
TZOFFSETTO:+0200
TZNAME:CEST
DTSTART:20230326T010000
END:DAYLIGHT
BEGIN:STANDARD
TZOFFSETFROM:+0200
TZOFFSETTO:+0100
TZNAME:CET
DTSTART:20231029T010000
END:STANDARD
END:VTIMEZONE
BEGIN:VEVENT
DTSTART;TZID=Europe/Vienna:20221007T180000
DTEND;TZID=Europe/Vienna:20221007T200000
DTSTAMP:20260424T202132
CREATED:20210527T102532Z
LAST-MODIFIED:20220530T075749Z
UID:601-1665165600-1665172800@www.beethovenhaus-baden.at
SUMMARY:Bekenntnisse der Frau Schnaps\, Beethovens Haushälterin. Ein erfrischend ungewöhnlicher humorvoller Blick auf Beethoven mit CHRIS PICHLER.
DESCRIPTION:Freitag\, 7. Oktober\nBekenntnisse der Frau Schnaps – ein erfrischend ungewöhnlicher humorvoller Blick auf den Menschen und Komponisten Beethoven. \nKonzept und Text: CHRIS PICHLER\nCello: Ana Topalovic\nAkkordeon: Bogdan Laketic \nBeginn 18.00 Uhr\n \nTicketpreise: € 25\,- (Abendkassa: € 29\,-) / Schüler\, Studenten: € 15\,- / € 19\,- \nInformationen und Tickets im Beethovenhaus Baden (DI–SO und Feiertage 10.00–18.00 Uhr)\, 02252 86800-630\, tickets@beethovenhaus-baden.at \nEin heiteres Programm in dem uns Chris Pichler vorführt\, wie jene „Frau Schnaps“ gerufene Haushälterin Ludwig van Beethovens mit dem völlig unberechenbaren und von ständig wechselnden Stimmungen heimgesuchten Genius fertig wird. Pichler zeigt wie die pfiffige und wendige ‚Bedienstete‘ weibliche Potentiale des Problemmanagements entfaltet\, die gerade heute in anderen Gebieten\, nämlich in Wirtschaft und Politik\, dringend benötigt werden. Basierend auf historischen Fakten und Aussagen\, bietet sie überraschende und auch ungewöhnliche Einblicke in sein Leben. Sie schildert vollmundig Anekdoten\, Konzerterfolge und Misserfolge\, Frauenangelegenheiten und sonstige Vorfälle und Streitigkeiten im Hause Beethoven. \nAll das begleitet von der Musik ihres „Dienstherren“\, gespielt von Ana Topalovic und Bogdan Laketic.
URL:https://www.beethovenhaus-baden.at/event/bekenntnisse-der-frau-schnaps-beethovens-haushalterin-ein-erfrischend-ungewohnlicher-blick-auf-beethoven-mit-chris-pichler/
LOCATION:Beethovenhaus Baden\, Rathausgasse 10\, Baden\, 2500
ATTACH;FMTTYPE=image/jpeg:https://www.beethovenhaus-baden.at/wp-content/uploads/2021/05/Pressefoto-aktuell-scaled.jpg
END:VEVENT
END:VCALENDAR