BEGIN:VCALENDAR
VERSION:2.0
PRODID:-//Beethovenhaus Baden - ECPv6.15.20//NONSGML v1.0//EN
CALSCALE:GREGORIAN
METHOD:PUBLISH
X-ORIGINAL-URL:https://www.beethovenhaus-baden.at
X-WR-CALDESC:Veranstaltungen für Beethovenhaus Baden
REFRESH-INTERVAL;VALUE=DURATION:PT1H
X-Robots-Tag:noindex
X-PUBLISHED-TTL:PT1H
BEGIN:VTIMEZONE
TZID:Europe/Vienna
BEGIN:DAYLIGHT
TZOFFSETFROM:+0100
TZOFFSETTO:+0200
TZNAME:CEST
DTSTART:20210328T010000
END:DAYLIGHT
BEGIN:STANDARD
TZOFFSETFROM:+0200
TZOFFSETTO:+0100
TZNAME:CET
DTSTART:20211031T010000
END:STANDARD
BEGIN:DAYLIGHT
TZOFFSETFROM:+0100
TZOFFSETTO:+0200
TZNAME:CEST
DTSTART:20220327T010000
END:DAYLIGHT
BEGIN:STANDARD
TZOFFSETFROM:+0200
TZOFFSETTO:+0100
TZNAME:CET
DTSTART:20221030T010000
END:STANDARD
BEGIN:DAYLIGHT
TZOFFSETFROM:+0100
TZOFFSETTO:+0200
TZNAME:CEST
DTSTART:20230326T010000
END:DAYLIGHT
BEGIN:STANDARD
TZOFFSETFROM:+0200
TZOFFSETTO:+0100
TZNAME:CET
DTSTART:20231029T010000
END:STANDARD
END:VTIMEZONE
BEGIN:VEVENT
DTSTART;TZID=Europe/Vienna:20221001T180000
DTEND;TZID=Europe/Vienna:20221002T010000
DTSTAMP:20260424T202305
CREATED:20220922T094423Z
LAST-MODIFIED:20220922T100404Z
UID:1161-1664647200-1664672400@www.beethovenhaus-baden.at
SUMMARY:LANGE NACHT DER MUSEEN
DESCRIPTION:BEETHOVEN ERZÄHLT GESCHICHTE(N) \nBeethovens Aufenthalte in Baden geben Einblick in seine persönlichen Lebensgewohnheiten\, aber auch in die Geschichte der Stadt Baden zur Zeit des Biedermeiers. Wo hat man gebadet\, wo hat man gespeist\, wen hat man getroffen\, wo ist man flaniert? \nEinfach kommen und zuhören: für Groß und Klein geeignet! Tickets hier erhältlich!\nWeitere Infos zur Langen Nacht der Museen hier! \nTipp: Mit dem Gratis-Shuttle-Bus der Stadtgemeinde von Schauplatz zu Schauplatz! \nIn diesem Haus stieg Beethoven in den Sommern 1821\, 1822 und 1823 ab. In dieser Zeit schrieb er wesentliche Teile der 9. Symphonie. Leben und Werk des berühmten Komponisten werden im Beethovenhaus Baden auf völlig neue\, überraschende Weise präsentiert.
URL:https://www.beethovenhaus-baden.at/event/lange-nacht-der-museen-2/
LOCATION:Beethovenhaus Baden\, Rathausgasse 10\, Baden\, 2500
ATTACH;FMTTYPE=image/jpeg:https://www.beethovenhaus-baden.at/wp-content/uploads/2021/08/Lange-Nacht-der-Museen.jpg
END:VEVENT
BEGIN:VEVENT
DTSTART;TZID=Europe/Vienna:20221002T100000
DTEND;TZID=Europe/Vienna:20221002T120000
DTSTAMP:20260424T202305
CREATED:20220601T073212Z
LAST-MODIFIED:20220923T090341Z
UID:1051-1664704800-1664712000@www.beethovenhaus-baden.at
SUMMARY:BADENER MUSEENTOUR
DESCRIPTION:BADENER MUSEENTOUR \nSonntag\, 2. Oktober 2022\, 10.00 Uhr\nErleben Sie einen außergewöhnlichen Einblick in drei kontrastreiche Museen der Badener Innenstadt.\nDie Badener Museentour führt Sie in das Arnulf Rainer Museum\, in die aktuelle Ausstellung des Kaiserhauses am Hauptplatz und in das Beethovenhaus Baden. Entdecken Sie Highlights aus Architektur\, Geschichte\, Musik und zeitgenössischer Kunst bei einem entspannten Rundgang am Sonntagvormittag. Im Anschluss an die kulturellen Köstlichkeiten erwartet Sie ein kleiner Lunch im Hotel At the Park. \nJeden ersten Sonntag im Monat um 10 Uhr.\nNächste Termine: 6. November und 4. Dezember \nBeginn: 10.00 Uhr im Arnulf Rainer Museum\nDauer: ca. 2 Stunden\, danach kulinarischer Ausklang im Hotel At the Park\nPreis: € 30\,- pro Person \nIm Preis enthalten: Eintritte und Führungen\, Lunch im Hotel (Rindsgulasch oder Quiche\, hausgemacht\, dazu ein Glas Frizzante oder Bier). \nAuskünfte und Anmeldung bitte unter +43 (0)2252 209 196 sowie office@arnulf-rainer-museum.at
URL:https://www.beethovenhaus-baden.at/event/badener-museentour/
ATTACH;FMTTYPE=image/jpeg:https://www.beethovenhaus-baden.at/wp-content/uploads/2022/06/Museentour.jpg
END:VEVENT
END:VCALENDAR