BEGIN:VCALENDAR
VERSION:2.0
PRODID:-//Beethovenhaus Baden - ECPv6.15.20//NONSGML v1.0//EN
CALSCALE:GREGORIAN
METHOD:PUBLISH
X-WR-CALNAME:Beethovenhaus Baden
X-ORIGINAL-URL:https://www.beethovenhaus-baden.at
X-WR-CALDESC:Veranstaltungen für Beethovenhaus Baden
REFRESH-INTERVAL;VALUE=DURATION:PT1H
X-Robots-Tag:noindex
X-PUBLISHED-TTL:PT1H
BEGIN:VTIMEZONE
TZID:Europe/Vienna
BEGIN:DAYLIGHT
TZOFFSETFROM:+0100
TZOFFSETTO:+0200
TZNAME:CEST
DTSTART:20210328T010000
END:DAYLIGHT
BEGIN:STANDARD
TZOFFSETFROM:+0200
TZOFFSETTO:+0100
TZNAME:CET
DTSTART:20211031T010000
END:STANDARD
BEGIN:DAYLIGHT
TZOFFSETFROM:+0100
TZOFFSETTO:+0200
TZNAME:CEST
DTSTART:20220327T010000
END:DAYLIGHT
BEGIN:STANDARD
TZOFFSETFROM:+0200
TZOFFSETTO:+0100
TZNAME:CET
DTSTART:20221030T010000
END:STANDARD
BEGIN:DAYLIGHT
TZOFFSETFROM:+0100
TZOFFSETTO:+0200
TZNAME:CEST
DTSTART:20230326T010000
END:DAYLIGHT
BEGIN:STANDARD
TZOFFSETFROM:+0200
TZOFFSETTO:+0100
TZNAME:CET
DTSTART:20231029T010000
END:STANDARD
END:VTIMEZONE
BEGIN:VEVENT
DTSTART;TZID=Europe/Vienna:20220925T110000
DTEND;TZID=Europe/Vienna:20220925T120000
DTSTAMP:20260424T233134
CREATED:20220525T083357Z
LAST-MODIFIED:20220901T074712Z
UID:1040-1664103600-1664107200@www.beethovenhaus-baden.at
SUMMARY:TAG DES DENKMALS - Führung "Vom Wohnhaus zum Museum - nachhaltige Nutzung!?" mit Stadtrat Hans Hornyik
DESCRIPTION:Sonntag\, 25. September 2022\nVom Wohnhaus zum Museum – nachhaltige Nutzung!? Führung zum TAG DES DENKMALS mit Stadtrat Hans Hornyik\n \nNUR im Rahmen dieser Führung ist der Eintritt frei! Anmeldung erforderlich: willkommen@beethovenhaus-baden.at oder 02252 86800-630 \nDas Haus mit mittelalterlichen Wurzeln in der Rathausgasse 10\, in dem Beethoven von 1821 bis 1823 seine Sommer verbrachte\, hat eine sehr bewegte Geschichte und viele Zu- und Umbauten hinter sich. Zu Beethovens Zeiten war es eine Fremdenpension im Eigentum eines Kupferschmieds\, später befand sich über lange Zeit eine Bäckerei darin. \nNach der gelungenen Revitalisierung wird seit 2014 nicht nur das von Beethoven gemietete Apartment im ersten Stock\, sondern das ganze Haus als Museum bespielt. Der Ort für ein Beethovenhaus könnte nicht authentischer\, die Nutzung nicht nachhaltiger sein! Überzeugen Sie sich selbst und erfahren Sie alles über die Highlights der Sanierung\, wie wiederentdeckte und freigelegte farbige Wände\, und Beethoven in Baden.
URL:https://www.beethovenhaus-baden.at/event/tag-des-denkmals/
LOCATION:Beethovenhaus Baden\, Rathausgasse 10\, Baden\, 2500
ATTACH;FMTTYPE=image/jpeg:https://www.beethovenhaus-baden.at/wp-content/uploads/2021/07/UB-Foto-Top-Rathausg.10-Beethovenhaus0004-scaled.jpg
END:VEVENT
END:VCALENDAR