BEGIN:VCALENDAR
VERSION:2.0
PRODID:-//Beethovenhaus Baden - ECPv6.15.20//NONSGML v1.0//EN
CALSCALE:GREGORIAN
METHOD:PUBLISH
X-WR-CALNAME:Beethovenhaus Baden
X-ORIGINAL-URL:https://www.beethovenhaus-baden.at
X-WR-CALDESC:Veranstaltungen für Beethovenhaus Baden
REFRESH-INTERVAL;VALUE=DURATION:PT1H
X-Robots-Tag:noindex
X-PUBLISHED-TTL:PT1H
BEGIN:VTIMEZONE
TZID:Europe/Vienna
BEGIN:DAYLIGHT
TZOFFSETFROM:+0100
TZOFFSETTO:+0200
TZNAME:CEST
DTSTART:20210328T010000
END:DAYLIGHT
BEGIN:STANDARD
TZOFFSETFROM:+0200
TZOFFSETTO:+0100
TZNAME:CET
DTSTART:20211031T010000
END:STANDARD
BEGIN:DAYLIGHT
TZOFFSETFROM:+0100
TZOFFSETTO:+0200
TZNAME:CEST
DTSTART:20220327T010000
END:DAYLIGHT
BEGIN:STANDARD
TZOFFSETFROM:+0200
TZOFFSETTO:+0100
TZNAME:CET
DTSTART:20221030T010000
END:STANDARD
BEGIN:DAYLIGHT
TZOFFSETFROM:+0100
TZOFFSETTO:+0200
TZNAME:CEST
DTSTART:20230326T010000
END:DAYLIGHT
BEGIN:STANDARD
TZOFFSETFROM:+0200
TZOFFSETTO:+0100
TZNAME:CET
DTSTART:20231029T010000
END:STANDARD
END:VTIMEZONE
BEGIN:VEVENT
DTSTART;TZID=Europe/Vienna:20220922T190000
DTEND;TZID=Europe/Vienna:20220922T201500
DTSTAMP:20260424T233129
CREATED:20220524T082426Z
LAST-MODIFIED:20220530T080029Z
UID:1034-1663873200-1663877700@www.beethovenhaus-baden.at
SUMMARY:Konzert mit dem Trio Egmont - Gilad Katznelson (Klavier)\, Luiza Labouriau (Geige) und Martin Knörzer (Cello) mit Beethoven und Ries
DESCRIPTION:Donnerstag\, 22. September 2022\, 19 Uhr\nKonzert mit dem Trio Egmont\nGilad Katznelson (Hammerklavier)\, Luiza Labouriau (Geige) und Martin Knörzer (Cello) \nGegründet von den drei Musikern aus Berlin und Leipzig im Herbst 2019 vereint das Trio Egmont bei explosiver Freude am Musizieren historisches Bewusstsein mit einer radikalen Freiheit und zartem Klanggespür. Im Sommer 2021 gewann das Trio den 1. Preis und den Ries-Sonderpreis beim ersten internationalen Wettbewerb „Beethoven in seiner Zeit“ für Kammermusik auf historischen Instrumenten. Zu dem Preis gehört auch eine neue Zusammenarbeit mit dem Label NAXOS. \nIm Beethovenhaus Baden spielen sie Beethovens Trio op 1 Nr. 3 in c-Moll (1793-95)\, das Trio op. 143 in c-Moll (1826) von Ferdinand Ries\, Schüler und Freund Beethovens und lesen einige passende Stellen aus Ries „Biographie über Beethoven“ vor. \nTicketpreise: € 25\,- / ermäßigt (Schüler u. Schülerinnen\, Studierende): € 12\,-\nTickets erhältlich im Beethovenhaus Baden (DI–SO und Feiertage 10–18 Uhr) 02252 86800-630 oder tickets@beethovenhaus-baden.at 
URL:https://www.beethovenhaus-baden.at/event/konzert-mit-dem-trio-egmont-gilad-katznelson-klavier-luiza-labouriau-geige-und-martin-knorzer-cello-mit-beethoven-und-ries/
LOCATION:Beethovenhaus Baden\, Rathausgasse 10\, Baden\, 2500
ATTACH;FMTTYPE=image/jpeg:https://www.beethovenhaus-baden.at/wp-content/uploads/2022/05/Trio-Egmont.jpg
END:VEVENT
END:VCALENDAR