BEGIN:VCALENDAR
VERSION:2.0
PRODID:-//Beethovenhaus Baden - ECPv6.15.20//NONSGML v1.0//EN
CALSCALE:GREGORIAN
METHOD:PUBLISH
X-WR-CALNAME:Beethovenhaus Baden
X-ORIGINAL-URL:https://www.beethovenhaus-baden.at
X-WR-CALDESC:Veranstaltungen für Beethovenhaus Baden
REFRESH-INTERVAL;VALUE=DURATION:PT1H
X-Robots-Tag:noindex
X-PUBLISHED-TTL:PT1H
BEGIN:VTIMEZONE
TZID:Europe/Vienna
BEGIN:DAYLIGHT
TZOFFSETFROM:+0100
TZOFFSETTO:+0200
TZNAME:CEST
DTSTART:20210328T010000
END:DAYLIGHT
BEGIN:STANDARD
TZOFFSETFROM:+0200
TZOFFSETTO:+0100
TZNAME:CET
DTSTART:20211031T010000
END:STANDARD
BEGIN:DAYLIGHT
TZOFFSETFROM:+0100
TZOFFSETTO:+0200
TZNAME:CEST
DTSTART:20220327T010000
END:DAYLIGHT
BEGIN:STANDARD
TZOFFSETFROM:+0200
TZOFFSETTO:+0100
TZNAME:CET
DTSTART:20221030T010000
END:STANDARD
BEGIN:DAYLIGHT
TZOFFSETFROM:+0100
TZOFFSETTO:+0200
TZNAME:CEST
DTSTART:20230326T010000
END:DAYLIGHT
BEGIN:STANDARD
TZOFFSETFROM:+0200
TZOFFSETTO:+0100
TZNAME:CET
DTSTART:20231029T010000
END:STANDARD
END:VTIMEZONE
BEGIN:VEVENT
DTSTART;TZID=Europe/Vienna:20220901T190000
DTEND;TZID=Europe/Vienna:20220901T200000
DTSTAMP:20260424T220230
CREATED:20220707T092956Z
LAST-MODIFIED:20220707T092956Z
UID:1091-1662058800-1662062400@www.beethovenhaus-baden.at
SUMMARY:"Sommerfrische - Kulturgeschichten vergangener Tage" - Lesung mit Katharina Mölk u. Christine Piswanger-Richter
DESCRIPTION:Donnerstag\, 1. September 2022\, 19 Uhr\nKatharina Mölk und Christine Piswanger-Richter lesen aus ihrem neuen Buch „Sommerfrische – Kulturgeschichten vergangener Tage“ \n„Sommerfrische“\, das klingt nach monatelangem „dolce farniente“ in kühleren Gefilden als den überhitzten Großstädten. Für viele war es das auch. Doch für Künstler war es oftmals die Zeit\, in der sie – abseits der gewohnten Routine – manche ihrer größten Meisterwerke schufen. Die Autorengemeinschaft des Leiermann-Verlages hat sich auf die Spuren einiger berühmter Sommerfrischler gemacht und deren Geschichten zusammengetragen. Beethovens Kuren\, Mahlers Komponierhäuschen\, Thomas Manns Aufenthalte auf der Kurischen Nehrung und den Sommeraufenthalten der Habsburger sind einige der Kapitel gewidmet. \nKatharina Mölk\, Historikerin und Fremdenführerin und Christine Piswanger-Richter\, Musikvermittlerin\, zwei der AutorInnen\, entführen Sie in die besondere Welt der Sommerfrische vergangener Tage. \nEintritt frei!\nReservierung erbeten: 02252 86800-630 oder tickets@beethovenhaus-baden.at \n 
URL:https://www.beethovenhaus-baden.at/event/sommerfrische-kulturgeschichten-vergangener-tage-lesung-mit-katharina-moelk-u-christine-piswanger-richter/
LOCATION:Beethovenhaus Baden\, Rathausgasse 10\, Baden\, 2500
ATTACH;FMTTYPE=image/jpeg:https://www.beethovenhaus-baden.at/wp-content/uploads/2022/07/Sommerfrische-Titelbild.jpg
END:VEVENT
END:VCALENDAR