BEGIN:VCALENDAR
VERSION:2.0
PRODID:-//Beethovenhaus Baden - ECPv6.15.20//NONSGML v1.0//EN
CALSCALE:GREGORIAN
METHOD:PUBLISH
X-ORIGINAL-URL:https://www.beethovenhaus-baden.at
X-WR-CALDESC:Veranstaltungen für Beethovenhaus Baden
REFRESH-INTERVAL;VALUE=DURATION:PT1H
X-Robots-Tag:noindex
X-PUBLISHED-TTL:PT1H
BEGIN:VTIMEZONE
TZID:Europe/Vienna
BEGIN:DAYLIGHT
TZOFFSETFROM:+0100
TZOFFSETTO:+0200
TZNAME:CEST
DTSTART:20210328T010000
END:DAYLIGHT
BEGIN:STANDARD
TZOFFSETFROM:+0200
TZOFFSETTO:+0100
TZNAME:CET
DTSTART:20211031T010000
END:STANDARD
BEGIN:DAYLIGHT
TZOFFSETFROM:+0100
TZOFFSETTO:+0200
TZNAME:CEST
DTSTART:20220327T010000
END:DAYLIGHT
BEGIN:STANDARD
TZOFFSETFROM:+0200
TZOFFSETTO:+0100
TZNAME:CET
DTSTART:20221030T010000
END:STANDARD
BEGIN:DAYLIGHT
TZOFFSETFROM:+0100
TZOFFSETTO:+0200
TZNAME:CEST
DTSTART:20230326T010000
END:DAYLIGHT
BEGIN:STANDARD
TZOFFSETFROM:+0200
TZOFFSETTO:+0100
TZNAME:CET
DTSTART:20231029T010000
END:STANDARD
END:VTIMEZONE
BEGIN:VEVENT
DTSTART;TZID=Europe/Vienna:20220427T190000
DTEND;TZID=Europe/Vienna:20220427T201500
DTSTAMP:20260425T043700
CREATED:20220128T082854Z
LAST-MODIFIED:20220222T075036Z
UID:929-1651086000-1651090500@www.beethovenhaus-baden.at
SUMMARY:Konzertabend mit Clara Sophia Murnig (Klavier) und Iris Schützenberger (Violine)
DESCRIPTION:Duo Clara Sophia Murnig (Klavier) und Iris Schützenberger (Violine)\nBeide Musikerinnen haben an der Universität für Musik und darstellende Kunst Wien studiert und sind im In- und Ausland spielend und lehrend tätig. Für ein Konzert mit dem Hammerklavier im Beethovenhaus Baden haben sie folgendes Programm zusammengestellt: \nProgramm\n* Wolfgang Amadeus Mozart – Sonate für Klavier und Violine Nr. 32 KV454\n* Ludwig van Beethoven – Sonate für Klavier und Violine Op. 30 Nr. 1\n* Johannes Brahms – Sonate in A-Dur Op. 100 für Klavier und Violine \nTickets: Erwachsene: € 25\,- / Ermässigt (Schüler\, Studenten): € 12\,-\nInformationen und Tickets: im Beethovenhaus Baden\, Rathausgasse 10\, 2500 Baden (Di-So und Feiertage: 10 – 18 Uhr) / +43 2252 86800-630 / tickets@beethovenhaus-baden.at
URL:https://www.beethovenhaus-baden.at/event/konzertabend-mit-clara-sophia-murnig-klavier-und-iris-schutzenberger-violine/
ATTACH;FMTTYPE=image/jpeg:https://www.beethovenhaus-baden.at/wp-content/uploads/2022/01/Foto-Duo-Murnig-scaled.jpg
END:VEVENT
END:VCALENDAR