BEGIN:VCALENDAR
VERSION:2.0
PRODID:-//Beethovenhaus Baden - ECPv6.15.20//NONSGML v1.0//EN
CALSCALE:GREGORIAN
METHOD:PUBLISH
X-ORIGINAL-URL:https://www.beethovenhaus-baden.at
X-WR-CALDESC:Veranstaltungen für Beethovenhaus Baden
REFRESH-INTERVAL;VALUE=DURATION:PT1H
X-Robots-Tag:noindex
X-PUBLISHED-TTL:PT1H
BEGIN:VTIMEZONE
TZID:Europe/Vienna
BEGIN:DAYLIGHT
TZOFFSETFROM:+0100
TZOFFSETTO:+0200
TZNAME:CEST
DTSTART:20200329T010000
END:DAYLIGHT
BEGIN:STANDARD
TZOFFSETFROM:+0200
TZOFFSETTO:+0100
TZNAME:CET
DTSTART:20201025T010000
END:STANDARD
BEGIN:DAYLIGHT
TZOFFSETFROM:+0100
TZOFFSETTO:+0200
TZNAME:CEST
DTSTART:20210328T010000
END:DAYLIGHT
BEGIN:STANDARD
TZOFFSETFROM:+0200
TZOFFSETTO:+0100
TZNAME:CET
DTSTART:20211031T010000
END:STANDARD
BEGIN:DAYLIGHT
TZOFFSETFROM:+0100
TZOFFSETTO:+0200
TZNAME:CEST
DTSTART:20220327T010000
END:DAYLIGHT
BEGIN:STANDARD
TZOFFSETFROM:+0200
TZOFFSETTO:+0100
TZNAME:CET
DTSTART:20221030T010000
END:STANDARD
END:VTIMEZONE
BEGIN:VEVENT
DTSTART;TZID=Europe/Vienna:20211113T190000
DTEND;TZID=Europe/Vienna:20211113T201500
DTSTAMP:20260425T145104
CREATED:20210924T101453Z
LAST-MODIFIED:20211109T072110Z
UID:775-1636830000-1636834500@www.beethovenhaus-baden.at
SUMMARY:"Diabelli-Variationen von Beethoven und anderen" - Klavierkonzert\, gespielt und moderiert von BERNHARD PÖTSCH. Abendvorstellung
DESCRIPTION:Bernhard Pötsch spielt am Beethoven-Klavier und moderiert Diabelli Variationen von Beethoven\, aber auch vielen anderen Komponisten.\nSamstag\, 13. November\, 19.00 Uhr und Sonntag\, 14. November\, 11.00 Uhr \nProgramm: Ludwig van Beethoven: 33 Veränderungen über einen Walzer\, op. 120\nsowie Veränderungen über ebendiesen Walzer von Leopold Eustachy Vincenty Capek\, Johann Nepomuk Hummel\, Anselm Hüttenbrenner\, Friedrich Kalkbrenner\, Franz Schubert und weiteren. \nTickets: Erwachsene: € 25\,- / Ermässigt (Schüler\, Studenten): € 12\,- Informationen und Tickets: im Beethovenhaus Baden\, Rathausgasse 10\, 2500 Baden (Di-So und Feiertags: 10.00 – 18.00 Uhr) / +43 2252 86800-630 / willkommen@beethovenhaus-baden.at \nUPDATE: Covid-19 Sicherheitsmaßnahmen\nBitte beachten Sie\, dass für dieses Konzert die „2 G-Regel“ gilt und somit der Einlass für nicht genesene und ungeimpfte Besucher*innen leider derzeit nicht möglich ist.
URL:https://www.beethovenhaus-baden.at/event/diabelli-variationen-von-beethoven-und-anderen-klavierkonzert-gespielt-und-moderiert-von-bernhard-potsch-abendvorstellung-und-matinee/
LOCATION:Beethovenhaus Baden\, Rathausgasse 10\, Baden\, 2500
ATTACH;FMTTYPE=image/jpeg:https://www.beethovenhaus-baden.at/wp-content/uploads/2021/09/60B35EE5-3073-4574-9BAB-4E2C0743B6D9-scaled.jpeg
END:VEVENT
END:VCALENDAR