BEGIN:VCALENDAR
VERSION:2.0
PRODID:-//Beethovenhaus Baden - ECPv6.15.20//NONSGML v1.0//EN
CALSCALE:GREGORIAN
METHOD:PUBLISH
X-WR-CALNAME:Beethovenhaus Baden
X-ORIGINAL-URL:https://www.beethovenhaus-baden.at
X-WR-CALDESC:Veranstaltungen für Beethovenhaus Baden
REFRESH-INTERVAL;VALUE=DURATION:PT1H
X-Robots-Tag:noindex
X-PUBLISHED-TTL:PT1H
BEGIN:VTIMEZONE
TZID:Europe/Vienna
BEGIN:DAYLIGHT
TZOFFSETFROM:+0100
TZOFFSETTO:+0200
TZNAME:CEST
DTSTART:20200329T010000
END:DAYLIGHT
BEGIN:STANDARD
TZOFFSETFROM:+0200
TZOFFSETTO:+0100
TZNAME:CET
DTSTART:20201025T010000
END:STANDARD
BEGIN:DAYLIGHT
TZOFFSETFROM:+0100
TZOFFSETTO:+0200
TZNAME:CEST
DTSTART:20210328T010000
END:DAYLIGHT
BEGIN:STANDARD
TZOFFSETFROM:+0200
TZOFFSETTO:+0100
TZNAME:CET
DTSTART:20211031T010000
END:STANDARD
BEGIN:DAYLIGHT
TZOFFSETFROM:+0100
TZOFFSETTO:+0200
TZNAME:CEST
DTSTART:20220327T010000
END:DAYLIGHT
BEGIN:STANDARD
TZOFFSETFROM:+0200
TZOFFSETTO:+0100
TZNAME:CET
DTSTART:20221030T010000
END:STANDARD
END:VTIMEZONE
BEGIN:VEVENT
DTSTART;TZID=Europe/Vienna:20211002T180000
DTEND;TZID=Europe/Vienna:20211002T235900
DTSTAMP:20260425T162556
CREATED:20210825T105910Z
LAST-MODIFIED:20210826T072322Z
UID:760-1633197600-1633219140@www.beethovenhaus-baden.at
SUMMARY:LANGE NACHT DER MUSEEN
DESCRIPTION:Von 18.00 – 24.00 Uhr!\nBEETHOVEN UND DIE KUR – BEKANNTES UND UNBEKANNTES\nWarum kam Beethoven überhaupt nach Baden? Welche Bäder hat er besucht? Wie war sein Tagesablauf? Stationen für Groß und Klein erzählen davon.\nEinfach kommen und mitmachen. \nRegionalticket: € 6\,- (Kinder bis 12 haben freien Eintritt) im Beethovenhaus Baden erhältlich\nWeitere Infos unter: Lange Nacht der Museen\nNützen Sie auch den Shuttle-Service\, der Sie von einem Badener Museum zum nächsten bringt. \nIn dem Haus Rathausgasse 10\, heute Beethovenhaus Baden\, stieg Beethoven in den Sommern 1821\, 1822 und 1823 ab. In dieser Zeit schrieb er wesentliche Teile der 9. Symphonie. Der berühmte Komponist suchte in der kaiserlichen Kurstadt Baden Heilung von seinen Leiden.\nLeben und Werk des Komponisten werden im Beethovenhaus Baden auf völlig neue\, überraschende Weise präsentiert. Die biedermeierlichen Wohnräume geben einen Einblick in das Leben und Umfeld des Komponisten in der Kurstadt. Darüber hinaus werden seine Kompositionen in besonderer Weise erfahrbar und hörbar gemacht.
URL:https://www.beethovenhaus-baden.at/event/lange-nacht-der-museen/
ATTACH;FMTTYPE=image/jpeg:https://www.beethovenhaus-baden.at/wp-content/uploads/2021/08/Lange-Nacht-der-Museen.jpg
END:VEVENT
END:VCALENDAR